BEGIN:VCALENDAR
VERSION:2.0
PRODID:-//Virtual Lancaster - ECPv6.15.20//NONSGML v1.0//EN
CALSCALE:GREGORIAN
METHOD:PUBLISH
X-WR-CALNAME:Virtual Lancaster
X-ORIGINAL-URL:https://virtual-lancaster.net
X-WR-CALDESC:Events for Virtual Lancaster
REFRESH-INTERVAL;VALUE=DURATION:PT1H
X-Robots-Tag:noindex
X-PUBLISHED-TTL:PT1H
BEGIN:VTIMEZONE
TZID:Europe/London
BEGIN:DAYLIGHT
TZOFFSETFROM:+0000
TZOFFSETTO:+0100
TZNAME:BST
DTSTART:20250330T010000
END:DAYLIGHT
BEGIN:STANDARD
TZOFFSETFROM:+0100
TZOFFSETTO:+0000
TZNAME:GMT
DTSTART:20251026T010000
END:STANDARD
BEGIN:DAYLIGHT
TZOFFSETFROM:+0000
TZOFFSETTO:+0100
TZNAME:BST
DTSTART:20260329T010000
END:DAYLIGHT
BEGIN:STANDARD
TZOFFSETFROM:+0100
TZOFFSETTO:+0000
TZNAME:GMT
DTSTART:20261025T010000
END:STANDARD
BEGIN:DAYLIGHT
TZOFFSETFROM:+0000
TZOFFSETTO:+0100
TZNAME:BST
DTSTART:20270328T010000
END:DAYLIGHT
BEGIN:STANDARD
TZOFFSETFROM:+0100
TZOFFSETTO:+0000
TZNAME:GMT
DTSTART:20271031T010000
END:STANDARD
END:VTIMEZONE
BEGIN:VEVENT
DTSTART;TZID=Europe/London:20260430T193000
DTEND;TZID=Europe/London:20260430T193000
DTSTAMP:20260424T143615
CREATED:20260424T120409Z
LAST-MODIFIED:20260424T120715Z
UID:8781-1777577400-1777577400@virtual-lancaster.net
SUMMARY:Looking for Me Friend: The Music of Victoria Wood
DESCRIPTION:2026 marks 10 years since the death of the late\, great Victoria Wood. So be amongst friends at “The most feel-good show in town” (Daily Mail) and join Paulus The Cabaret Geek (BBC1’s ‘All Together Now’) with Michael Roulston (Fascinating Aïda) on piano to celebrate her life. \nDirected by the multi-award-winning Sarah-Louise Young (An Evening Without Kate Bush)\, Looking For Me Friend is filled with Victoria’s best-loved songs\, including the iconic ‘Ballad of Barry & Freda’ (Let’s Do It) and the classic ‘It Would Never Have Worked’. It has been welcomed by many of Victoria’s very own school-chums\, family and colleagues. \n\n\n“She’s not just being remembered\, she’s being relived” (One4review) \nLooking For Me Friend is for fans of Victoria and for those yet to discover her\, to come together and relish her breathtaking wizardry with words. In telling Victoria’s story\, Paulus unfolds his own. A relatable story of a 1970s childhood and what it really means to find your tribe. \nPair your stilettos with an oven glove\, zip up your cocktail slacks and get booking!
URL:https://virtual-lancaster.net/event/looking-for-me-friend-the-music-of-victoria-wood/
LOCATION:The Dukes\, Moor Lane\, Lancaster\, Lancashire\, LA1 1QE\, United Kingdom
CATEGORIES:Stage
ATTACH;FMTTYPE=image/jpeg:https://virtual-lancaster.net/wp-content/uploads/2026/04/Looking-For-Me-Friend-Cabaret-Geek.jpeg
END:VEVENT
END:VCALENDAR