BEGIN:VCALENDAR
VERSION:2.0
PRODID:-//Virtual Lancaster - ECPv6.15.20//NONSGML v1.0//EN
CALSCALE:GREGORIAN
METHOD:PUBLISH
X-ORIGINAL-URL:https://virtual-lancaster.net
X-WR-CALDESC:Events for Virtual Lancaster
REFRESH-INTERVAL;VALUE=DURATION:PT1H
X-Robots-Tag:noindex
X-PUBLISHED-TTL:PT1H
BEGIN:VTIMEZONE
TZID:Europe/London
BEGIN:DAYLIGHT
TZOFFSETFROM:+0000
TZOFFSETTO:+0100
TZNAME:BST
DTSTART:20250330T010000
END:DAYLIGHT
BEGIN:STANDARD
TZOFFSETFROM:+0100
TZOFFSETTO:+0000
TZNAME:GMT
DTSTART:20251026T010000
END:STANDARD
BEGIN:DAYLIGHT
TZOFFSETFROM:+0000
TZOFFSETTO:+0100
TZNAME:BST
DTSTART:20260329T010000
END:DAYLIGHT
BEGIN:STANDARD
TZOFFSETFROM:+0100
TZOFFSETTO:+0000
TZNAME:GMT
DTSTART:20261025T010000
END:STANDARD
BEGIN:DAYLIGHT
TZOFFSETFROM:+0000
TZOFFSETTO:+0100
TZNAME:BST
DTSTART:20270328T010000
END:DAYLIGHT
BEGIN:STANDARD
TZOFFSETFROM:+0100
TZOFFSETTO:+0000
TZNAME:GMT
DTSTART:20271031T010000
END:STANDARD
END:VTIMEZONE
BEGIN:VEVENT
DTSTART;TZID=Europe/London:20260430T193000
DTEND;TZID=Europe/London:20260430T210000
DTSTAMP:20260425T172650
CREATED:20260424T144647Z
LAST-MODIFIED:20260424T144647Z
UID:10000264-1777577400-1777582800@virtual-lancaster.net
SUMMARY:Event: The Music of John Williams vs Hans Zimmer
DESCRIPTION:Experience a breathtaking celebration of John Williams\, Hans Zimmer and the greatest film scores ever written\, brought to life by a chamber orchestra at Lancaster Town Hall. Doors open at 6.45pm \nStep into a world where cinematic music history is brought to life. This year\, The Great British Film Orchestra proudly embarks on a spectacular UK-wide tour\, presenting The Music of John Williams vs Hans Zimmer – an orchestral duel between two titans whose scores have defined generations of storytelling. \nFor over half a century\, John Williams has shaped the sound of wonder itself. His unforgettable themes for Star Wars\, Indiana Jones\, Superman\, Jurassic Park and more have become modern mythology – fanfares that summon heroes\, awaken galaxies and stir the imagination of millions. His music is symphonic grandeur at its purest\, rooted in classical tradition yet alive with adventure\, heart and timeless magic. \nOpposing him stands Hans Zimmer\, the architect of bold\, thunderous\, revolutionary sound. With groundbreaking scores for The Dark Knight\, Gladiator\, The Lion King\, Inception and beyond\, Zimmer reinvented the very language of film music. His fusion of orchestra\, electronics\, and relentless rhythm forged a new cinematic era – powerful\, primal\, unmistakably modern. \nBringing these monumental worlds to the stage is The Great British Film Orchestra\, one of the UK’s premier symphonic ensembles devoted to the art of film music. Renowned for their rich\, commanding sound and vivid performances\, this chamber orchestra transforms every concert into a widescreen experience – transporting audiences from ancient coliseums and distant galaxies to enchanted kingdoms and shadowed cityscapes. \nThis extraordinary touring production is more than a concert – it is a celebration of two musical legends whose work has shaped the emotional core of cinema itself. Expect soaring strings\, heroic brass\, electrifying percussion and moments of pure\, breathtaking spectacle as Williams’ iconic themes meet Zimmer’s thunderous power in a night of symphonic glory. \nJohn Williams. Hans Zimmer. One orchestra. Infinite adventure.
URL:https://virtual-lancaster.net/event/event-the-music-of-john-williams-vs-hans-zimmer/
LOCATION:Lancaster Town Hall\, Dalton Square\, Lancaster\, LA1 1PJ\, United Kingdom
CATEGORIES:Music
ATTACH;FMTTYPE=image/jpeg:https://virtual-lancaster.net/wp-content/uploads/2026/04/Music-of-John-Williams.jpg
END:VEVENT
END:VCALENDAR