BEGIN:VCALENDAR
VERSION:2.0
PRODID:-//Virtual Lancaster - ECPv6.15.20//NONSGML v1.0//EN
CALSCALE:GREGORIAN
METHOD:PUBLISH
X-ORIGINAL-URL:https://virtual-lancaster.net
X-WR-CALDESC:Events for Virtual Lancaster
REFRESH-INTERVAL;VALUE=DURATION:PT1H
X-Robots-Tag:noindex
X-PUBLISHED-TTL:PT1H
BEGIN:VTIMEZONE
TZID:Europe/London
BEGIN:DAYLIGHT
TZOFFSETFROM:+0000
TZOFFSETTO:+0100
TZNAME:BST
DTSTART:20250330T010000
END:DAYLIGHT
BEGIN:STANDARD
TZOFFSETFROM:+0100
TZOFFSETTO:+0000
TZNAME:GMT
DTSTART:20251026T010000
END:STANDARD
BEGIN:DAYLIGHT
TZOFFSETFROM:+0000
TZOFFSETTO:+0100
TZNAME:BST
DTSTART:20260329T010000
END:DAYLIGHT
BEGIN:STANDARD
TZOFFSETFROM:+0100
TZOFFSETTO:+0000
TZNAME:GMT
DTSTART:20261025T010000
END:STANDARD
BEGIN:DAYLIGHT
TZOFFSETFROM:+0000
TZOFFSETTO:+0100
TZNAME:BST
DTSTART:20270328T010000
END:DAYLIGHT
BEGIN:STANDARD
TZOFFSETFROM:+0100
TZOFFSETTO:+0000
TZNAME:GMT
DTSTART:20271031T010000
END:STANDARD
END:VTIMEZONE
BEGIN:VEVENT
DTSTART;TZID=Europe/London:20260424T193000
DTEND;TZID=Europe/London:20260424T230000
DTSTAMP:20260425T122512
CREATED:20260424T151246Z
LAST-MODIFIED:20260424T151318Z
UID:10000265-1777059000-1777071600@virtual-lancaster.net
SUMMARY:Event: LMC Presents… April 2026
DESCRIPTION:A seven-piece art band are the special headliners as Lancaster Music Co-op returns with its monthly free music night. \nThe Arcane Hope take to the stage of the upstairs room at The Pub on China Street in Lancaster as part of the showcase\, which runs from 7.30pm tonight (Friday 24th April 2026) and is likely to appeal to fans of folk\, psyche and indie. \nTheir appearance comes as the co-op\, homeless since 2018\, fundraises towards the re-opening of its rehearsal facility\, recording studio and music space on Lodge Street. \nAlso appearing are Bailey Moore and Rachel Wyche. cian
URL:https://virtual-lancaster.net/event/event-lmc-presents-april-2026/
LOCATION:The Pub\, 45-47 China Street\, Lancaster\, LA1 1EX\, United Kingdom
CATEGORIES:Music
ATTACH;FMTTYPE=image/png:https://virtual-lancaster.net/wp-content/uploads/2026/04/The-Arcane-Hope.png
END:VEVENT
END:VCALENDAR