BEGIN:VCALENDAR
VERSION:2.0
PRODID:-//Virtual Lancaster - ECPv6.15.20//NONSGML v1.0//EN
CALSCALE:GREGORIAN
METHOD:PUBLISH
X-ORIGINAL-URL:https://virtual-lancaster.net
X-WR-CALDESC:Events for Virtual Lancaster
REFRESH-INTERVAL;VALUE=DURATION:PT1H
X-Robots-Tag:noindex
X-PUBLISHED-TTL:PT1H
BEGIN:VTIMEZONE
TZID:Europe/London
BEGIN:DAYLIGHT
TZOFFSETFROM:+0000
TZOFFSETTO:+0100
TZNAME:BST
DTSTART:20260329T010000
END:DAYLIGHT
BEGIN:STANDARD
TZOFFSETFROM:+0100
TZOFFSETTO:+0000
TZNAME:GMT
DTSTART:20261025T010000
END:STANDARD
BEGIN:DAYLIGHT
TZOFFSETFROM:+0000
TZOFFSETTO:+0100
TZNAME:BST
DTSTART:20270328T010000
END:DAYLIGHT
BEGIN:STANDARD
TZOFFSETFROM:+0100
TZOFFSETTO:+0000
TZNAME:GMT
DTSTART:20271031T010000
END:STANDARD
BEGIN:DAYLIGHT
TZOFFSETFROM:+0000
TZOFFSETTO:+0100
TZNAME:BST
DTSTART:20280326T010000
END:DAYLIGHT
BEGIN:STANDARD
TZOFFSETFROM:+0100
TZOFFSETTO:+0000
TZNAME:GMT
DTSTART:20281029T010000
END:STANDARD
END:VTIMEZONE
BEGIN:VEVENT
DTSTART;TZID=Europe/London:20270310T190000
DTEND;TZID=Europe/London:20270310T220000
DTSTAMP:20260425T153943
CREATED:20260424T143715Z
LAST-MODIFIED:20260424T143947Z
UID:10000048-1804705200-1804716000@virtual-lancaster.net
SUMMARY:Event: Storey Quiz Night
DESCRIPTION:Join in every Wednesday from 7-10pm for the Storey Quiz Night! Hosted by BBC Radio Lancashire’s Mike Stevens\, you can expect a night full of trivia and fun! \nGrab your friends\, family\, and colleagues to make your team of six and compete. Prizes: 1st £30 Printroom Voucher 2nd £10 Printroom Voucher £1 entry per person
URL:https://virtual-lancaster.net/event/storey-quiz-night/2027-03-10/
LOCATION:The Storey\, Meeting House Lane\, Lancaster\, Lancashire\, LA1 1TH\, United Kingdom
ATTACH;FMTTYPE=image/jpeg:https://virtual-lancaster.net/wp-content/uploads/2012/10/storey-arts-09-10-12.jpg
END:VEVENT
BEGIN:VEVENT
DTSTART;TZID=Europe/London:20270317T190000
DTEND;TZID=Europe/London:20270317T220000
DTSTAMP:20260425T153943
CREATED:20260424T143715Z
LAST-MODIFIED:20260424T143947Z
UID:10000049-1805310000-1805320800@virtual-lancaster.net
SUMMARY:Event: Storey Quiz Night
DESCRIPTION:Join in every Wednesday from 7-10pm for the Storey Quiz Night! Hosted by BBC Radio Lancashire’s Mike Stevens\, you can expect a night full of trivia and fun! \nGrab your friends\, family\, and colleagues to make your team of six and compete. Prizes: 1st £30 Printroom Voucher 2nd £10 Printroom Voucher £1 entry per person
URL:https://virtual-lancaster.net/event/storey-quiz-night/2027-03-17/
LOCATION:The Storey\, Meeting House Lane\, Lancaster\, Lancashire\, LA1 1TH\, United Kingdom
ATTACH;FMTTYPE=image/jpeg:https://virtual-lancaster.net/wp-content/uploads/2012/10/storey-arts-09-10-12.jpg
END:VEVENT
BEGIN:VEVENT
DTSTART;TZID=Europe/London:20270324T190000
DTEND;TZID=Europe/London:20270324T220000
DTSTAMP:20260425T153943
CREATED:20260424T143715Z
LAST-MODIFIED:20260424T143947Z
UID:10000050-1805914800-1805925600@virtual-lancaster.net
SUMMARY:Event: Storey Quiz Night
DESCRIPTION:Join in every Wednesday from 7-10pm for the Storey Quiz Night! Hosted by BBC Radio Lancashire’s Mike Stevens\, you can expect a night full of trivia and fun! \nGrab your friends\, family\, and colleagues to make your team of six and compete. Prizes: 1st £30 Printroom Voucher 2nd £10 Printroom Voucher £1 entry per person
URL:https://virtual-lancaster.net/event/storey-quiz-night/2027-03-24/
LOCATION:The Storey\, Meeting House Lane\, Lancaster\, Lancashire\, LA1 1TH\, United Kingdom
ATTACH;FMTTYPE=image/jpeg:https://virtual-lancaster.net/wp-content/uploads/2012/10/storey-arts-09-10-12.jpg
END:VEVENT
BEGIN:VEVENT
DTSTART;TZID=Europe/London:20270331T190000
DTEND;TZID=Europe/London:20270331T220000
DTSTAMP:20260425T153943
CREATED:20260424T143715Z
LAST-MODIFIED:20260424T143947Z
UID:10000051-1806519600-1806530400@virtual-lancaster.net
SUMMARY:Event: Storey Quiz Night
DESCRIPTION:Join in every Wednesday from 7-10pm for the Storey Quiz Night! Hosted by BBC Radio Lancashire’s Mike Stevens\, you can expect a night full of trivia and fun! \nGrab your friends\, family\, and colleagues to make your team of six and compete. Prizes: 1st £30 Printroom Voucher 2nd £10 Printroom Voucher £1 entry per person
URL:https://virtual-lancaster.net/event/storey-quiz-night/2027-03-31/
LOCATION:The Storey\, Meeting House Lane\, Lancaster\, Lancashire\, LA1 1TH\, United Kingdom
ATTACH;FMTTYPE=image/jpeg:https://virtual-lancaster.net/wp-content/uploads/2012/10/storey-arts-09-10-12.jpg
END:VEVENT
BEGIN:VEVENT
DTSTART;TZID=Europe/London:20270407T190000
DTEND;TZID=Europe/London:20270407T220000
DTSTAMP:20260425T153943
CREATED:20260424T143715Z
LAST-MODIFIED:20260424T143947Z
UID:10000052-1807124400-1807135200@virtual-lancaster.net
SUMMARY:Event: Storey Quiz Night
DESCRIPTION:Join in every Wednesday from 7-10pm for the Storey Quiz Night! Hosted by BBC Radio Lancashire’s Mike Stevens\, you can expect a night full of trivia and fun! \nGrab your friends\, family\, and colleagues to make your team of six and compete. Prizes: 1st £30 Printroom Voucher 2nd £10 Printroom Voucher £1 entry per person
URL:https://virtual-lancaster.net/event/storey-quiz-night/2027-04-07/
LOCATION:The Storey\, Meeting House Lane\, Lancaster\, Lancashire\, LA1 1TH\, United Kingdom
ATTACH;FMTTYPE=image/jpeg:https://virtual-lancaster.net/wp-content/uploads/2012/10/storey-arts-09-10-12.jpg
END:VEVENT
BEGIN:VEVENT
DTSTART;TZID=Europe/London:20270414T190000
DTEND;TZID=Europe/London:20270414T220000
DTSTAMP:20260425T153943
CREATED:20260424T143715Z
LAST-MODIFIED:20260424T143947Z
UID:10000053-1807729200-1807740000@virtual-lancaster.net
SUMMARY:Event: Storey Quiz Night
DESCRIPTION:Join in every Wednesday from 7-10pm for the Storey Quiz Night! Hosted by BBC Radio Lancashire’s Mike Stevens\, you can expect a night full of trivia and fun! \nGrab your friends\, family\, and colleagues to make your team of six and compete. Prizes: 1st £30 Printroom Voucher 2nd £10 Printroom Voucher £1 entry per person
URL:https://virtual-lancaster.net/event/storey-quiz-night/2027-04-14/
LOCATION:The Storey\, Meeting House Lane\, Lancaster\, Lancashire\, LA1 1TH\, United Kingdom
ATTACH;FMTTYPE=image/jpeg:https://virtual-lancaster.net/wp-content/uploads/2012/10/storey-arts-09-10-12.jpg
END:VEVENT
BEGIN:VEVENT
DTSTART;TZID=Europe/London:20270421T190000
DTEND;TZID=Europe/London:20270421T220000
DTSTAMP:20260425T153943
CREATED:20260424T143715Z
LAST-MODIFIED:20260424T143947Z
UID:10000054-1808334000-1808344800@virtual-lancaster.net
SUMMARY:Event: Storey Quiz Night
DESCRIPTION:Join in every Wednesday from 7-10pm for the Storey Quiz Night! Hosted by BBC Radio Lancashire’s Mike Stevens\, you can expect a night full of trivia and fun! \nGrab your friends\, family\, and colleagues to make your team of six and compete. Prizes: 1st £30 Printroom Voucher 2nd £10 Printroom Voucher £1 entry per person
URL:https://virtual-lancaster.net/event/storey-quiz-night/2027-04-21/
LOCATION:The Storey\, Meeting House Lane\, Lancaster\, Lancashire\, LA1 1TH\, United Kingdom
ATTACH;FMTTYPE=image/jpeg:https://virtual-lancaster.net/wp-content/uploads/2012/10/storey-arts-09-10-12.jpg
END:VEVENT
BEGIN:VEVENT
DTSTART;TZID=Europe/London:20270428T190000
DTEND;TZID=Europe/London:20270428T220000
DTSTAMP:20260425T153943
CREATED:20260424T143715Z
LAST-MODIFIED:20260424T143947Z
UID:10000055-1808938800-1808949600@virtual-lancaster.net
SUMMARY:Event: Storey Quiz Night
DESCRIPTION:Join in every Wednesday from 7-10pm for the Storey Quiz Night! Hosted by BBC Radio Lancashire’s Mike Stevens\, you can expect a night full of trivia and fun! \nGrab your friends\, family\, and colleagues to make your team of six and compete. Prizes: 1st £30 Printroom Voucher 2nd £10 Printroom Voucher £1 entry per person
URL:https://virtual-lancaster.net/event/storey-quiz-night/2027-04-28/
LOCATION:The Storey\, Meeting House Lane\, Lancaster\, Lancashire\, LA1 1TH\, United Kingdom
ATTACH;FMTTYPE=image/jpeg:https://virtual-lancaster.net/wp-content/uploads/2012/10/storey-arts-09-10-12.jpg
END:VEVENT
BEGIN:VEVENT
DTSTART;TZID=Europe/London:20270505T190000
DTEND;TZID=Europe/London:20270505T220000
DTSTAMP:20260425T153943
CREATED:20260424T143715Z
LAST-MODIFIED:20260424T143947Z
UID:10000056-1809543600-1809554400@virtual-lancaster.net
SUMMARY:Event: Storey Quiz Night
DESCRIPTION:Join in every Wednesday from 7-10pm for the Storey Quiz Night! Hosted by BBC Radio Lancashire’s Mike Stevens\, you can expect a night full of trivia and fun! \nGrab your friends\, family\, and colleagues to make your team of six and compete. Prizes: 1st £30 Printroom Voucher 2nd £10 Printroom Voucher £1 entry per person
URL:https://virtual-lancaster.net/event/storey-quiz-night/2027-05-05/
LOCATION:The Storey\, Meeting House Lane\, Lancaster\, Lancashire\, LA1 1TH\, United Kingdom
ATTACH;FMTTYPE=image/jpeg:https://virtual-lancaster.net/wp-content/uploads/2012/10/storey-arts-09-10-12.jpg
END:VEVENT
BEGIN:VEVENT
DTSTART;TZID=Europe/London:20270512T190000
DTEND;TZID=Europe/London:20270512T220000
DTSTAMP:20260425T153943
CREATED:20260424T143715Z
LAST-MODIFIED:20260424T143947Z
UID:10000057-1810148400-1810159200@virtual-lancaster.net
SUMMARY:Event: Storey Quiz Night
DESCRIPTION:Join in every Wednesday from 7-10pm for the Storey Quiz Night! Hosted by BBC Radio Lancashire’s Mike Stevens\, you can expect a night full of trivia and fun! \nGrab your friends\, family\, and colleagues to make your team of six and compete. Prizes: 1st £30 Printroom Voucher 2nd £10 Printroom Voucher £1 entry per person
URL:https://virtual-lancaster.net/event/storey-quiz-night/2027-05-12/
LOCATION:The Storey\, Meeting House Lane\, Lancaster\, Lancashire\, LA1 1TH\, United Kingdom
ATTACH;FMTTYPE=image/jpeg:https://virtual-lancaster.net/wp-content/uploads/2012/10/storey-arts-09-10-12.jpg
END:VEVENT
BEGIN:VEVENT
DTSTART;TZID=Europe/London:20270519T190000
DTEND;TZID=Europe/London:20270519T220000
DTSTAMP:20260425T153943
CREATED:20260424T143715Z
LAST-MODIFIED:20260424T143947Z
UID:10000058-1810753200-1810764000@virtual-lancaster.net
SUMMARY:Event: Storey Quiz Night
DESCRIPTION:Join in every Wednesday from 7-10pm for the Storey Quiz Night! Hosted by BBC Radio Lancashire’s Mike Stevens\, you can expect a night full of trivia and fun! \nGrab your friends\, family\, and colleagues to make your team of six and compete. Prizes: 1st £30 Printroom Voucher 2nd £10 Printroom Voucher £1 entry per person
URL:https://virtual-lancaster.net/event/storey-quiz-night/2027-05-19/
LOCATION:The Storey\, Meeting House Lane\, Lancaster\, Lancashire\, LA1 1TH\, United Kingdom
ATTACH;FMTTYPE=image/jpeg:https://virtual-lancaster.net/wp-content/uploads/2012/10/storey-arts-09-10-12.jpg
END:VEVENT
BEGIN:VEVENT
DTSTART;TZID=Europe/London:20270526T190000
DTEND;TZID=Europe/London:20270526T220000
DTSTAMP:20260425T153943
CREATED:20260424T143715Z
LAST-MODIFIED:20260424T143947Z
UID:10000059-1811358000-1811368800@virtual-lancaster.net
SUMMARY:Event: Storey Quiz Night
DESCRIPTION:Join in every Wednesday from 7-10pm for the Storey Quiz Night! Hosted by BBC Radio Lancashire’s Mike Stevens\, you can expect a night full of trivia and fun! \nGrab your friends\, family\, and colleagues to make your team of six and compete. Prizes: 1st £30 Printroom Voucher 2nd £10 Printroom Voucher £1 entry per person
URL:https://virtual-lancaster.net/event/storey-quiz-night/2027-05-26/
LOCATION:The Storey\, Meeting House Lane\, Lancaster\, Lancashire\, LA1 1TH\, United Kingdom
ATTACH;FMTTYPE=image/jpeg:https://virtual-lancaster.net/wp-content/uploads/2012/10/storey-arts-09-10-12.jpg
END:VEVENT
BEGIN:VEVENT
DTSTART;TZID=Europe/London:20270602T190000
DTEND;TZID=Europe/London:20270602T220000
DTSTAMP:20260425T153943
CREATED:20260424T143715Z
LAST-MODIFIED:20260424T143947Z
UID:10000060-1811962800-1811973600@virtual-lancaster.net
SUMMARY:Event: Storey Quiz Night
DESCRIPTION:Join in every Wednesday from 7-10pm for the Storey Quiz Night! Hosted by BBC Radio Lancashire’s Mike Stevens\, you can expect a night full of trivia and fun! \nGrab your friends\, family\, and colleagues to make your team of six and compete. Prizes: 1st £30 Printroom Voucher 2nd £10 Printroom Voucher £1 entry per person
URL:https://virtual-lancaster.net/event/storey-quiz-night/2027-06-02/
LOCATION:The Storey\, Meeting House Lane\, Lancaster\, Lancashire\, LA1 1TH\, United Kingdom
ATTACH;FMTTYPE=image/jpeg:https://virtual-lancaster.net/wp-content/uploads/2012/10/storey-arts-09-10-12.jpg
END:VEVENT
BEGIN:VEVENT
DTSTART;TZID=Europe/London:20270609T190000
DTEND;TZID=Europe/London:20270609T220000
DTSTAMP:20260425T153943
CREATED:20260424T143715Z
LAST-MODIFIED:20260424T143947Z
UID:10000061-1812567600-1812578400@virtual-lancaster.net
SUMMARY:Event: Storey Quiz Night
DESCRIPTION:Join in every Wednesday from 7-10pm for the Storey Quiz Night! Hosted by BBC Radio Lancashire’s Mike Stevens\, you can expect a night full of trivia and fun! \nGrab your friends\, family\, and colleagues to make your team of six and compete. Prizes: 1st £30 Printroom Voucher 2nd £10 Printroom Voucher £1 entry per person
URL:https://virtual-lancaster.net/event/storey-quiz-night/2027-06-09/
LOCATION:The Storey\, Meeting House Lane\, Lancaster\, Lancashire\, LA1 1TH\, United Kingdom
ATTACH;FMTTYPE=image/jpeg:https://virtual-lancaster.net/wp-content/uploads/2012/10/storey-arts-09-10-12.jpg
END:VEVENT
BEGIN:VEVENT
DTSTART;TZID=Europe/London:20270616T190000
DTEND;TZID=Europe/London:20270616T220000
DTSTAMP:20260425T153943
CREATED:20260424T143715Z
LAST-MODIFIED:20260424T143947Z
UID:10000062-1813172400-1813183200@virtual-lancaster.net
SUMMARY:Event: Storey Quiz Night
DESCRIPTION:Join in every Wednesday from 7-10pm for the Storey Quiz Night! Hosted by BBC Radio Lancashire’s Mike Stevens\, you can expect a night full of trivia and fun! \nGrab your friends\, family\, and colleagues to make your team of six and compete. Prizes: 1st £30 Printroom Voucher 2nd £10 Printroom Voucher £1 entry per person
URL:https://virtual-lancaster.net/event/storey-quiz-night/2027-06-16/
LOCATION:The Storey\, Meeting House Lane\, Lancaster\, Lancashire\, LA1 1TH\, United Kingdom
ATTACH;FMTTYPE=image/jpeg:https://virtual-lancaster.net/wp-content/uploads/2012/10/storey-arts-09-10-12.jpg
END:VEVENT
BEGIN:VEVENT
DTSTART;TZID=Europe/London:20270623T190000
DTEND;TZID=Europe/London:20270623T220000
DTSTAMP:20260425T153943
CREATED:20260424T143715Z
LAST-MODIFIED:20260424T143947Z
UID:10000063-1813777200-1813788000@virtual-lancaster.net
SUMMARY:Event: Storey Quiz Night
DESCRIPTION:Join in every Wednesday from 7-10pm for the Storey Quiz Night! Hosted by BBC Radio Lancashire’s Mike Stevens\, you can expect a night full of trivia and fun! \nGrab your friends\, family\, and colleagues to make your team of six and compete. Prizes: 1st £30 Printroom Voucher 2nd £10 Printroom Voucher £1 entry per person
URL:https://virtual-lancaster.net/event/storey-quiz-night/2027-06-23/
LOCATION:The Storey\, Meeting House Lane\, Lancaster\, Lancashire\, LA1 1TH\, United Kingdom
ATTACH;FMTTYPE=image/jpeg:https://virtual-lancaster.net/wp-content/uploads/2012/10/storey-arts-09-10-12.jpg
END:VEVENT
BEGIN:VEVENT
DTSTART;TZID=Europe/London:20270630T190000
DTEND;TZID=Europe/London:20270630T220000
DTSTAMP:20260425T153943
CREATED:20260424T143715Z
LAST-MODIFIED:20260424T143947Z
UID:10000064-1814382000-1814392800@virtual-lancaster.net
SUMMARY:Event: Storey Quiz Night
DESCRIPTION:Join in every Wednesday from 7-10pm for the Storey Quiz Night! Hosted by BBC Radio Lancashire’s Mike Stevens\, you can expect a night full of trivia and fun! \nGrab your friends\, family\, and colleagues to make your team of six and compete. Prizes: 1st £30 Printroom Voucher 2nd £10 Printroom Voucher £1 entry per person
URL:https://virtual-lancaster.net/event/storey-quiz-night/2027-06-30/
LOCATION:The Storey\, Meeting House Lane\, Lancaster\, Lancashire\, LA1 1TH\, United Kingdom
ATTACH;FMTTYPE=image/jpeg:https://virtual-lancaster.net/wp-content/uploads/2012/10/storey-arts-09-10-12.jpg
END:VEVENT
BEGIN:VEVENT
DTSTART;TZID=Europe/London:20270707T190000
DTEND;TZID=Europe/London:20270707T220000
DTSTAMP:20260425T153943
CREATED:20260424T143715Z
LAST-MODIFIED:20260424T143947Z
UID:10000065-1814986800-1814997600@virtual-lancaster.net
SUMMARY:Event: Storey Quiz Night
DESCRIPTION:Join in every Wednesday from 7-10pm for the Storey Quiz Night! Hosted by BBC Radio Lancashire’s Mike Stevens\, you can expect a night full of trivia and fun! \nGrab your friends\, family\, and colleagues to make your team of six and compete. Prizes: 1st £30 Printroom Voucher 2nd £10 Printroom Voucher £1 entry per person
URL:https://virtual-lancaster.net/event/storey-quiz-night/2027-07-07/
LOCATION:The Storey\, Meeting House Lane\, Lancaster\, Lancashire\, LA1 1TH\, United Kingdom
ATTACH;FMTTYPE=image/jpeg:https://virtual-lancaster.net/wp-content/uploads/2012/10/storey-arts-09-10-12.jpg
END:VEVENT
BEGIN:VEVENT
DTSTART;TZID=Europe/London:20270714T190000
DTEND;TZID=Europe/London:20270714T220000
DTSTAMP:20260425T153943
CREATED:20260424T143715Z
LAST-MODIFIED:20260424T143947Z
UID:10000066-1815591600-1815602400@virtual-lancaster.net
SUMMARY:Event: Storey Quiz Night
DESCRIPTION:Join in every Wednesday from 7-10pm for the Storey Quiz Night! Hosted by BBC Radio Lancashire’s Mike Stevens\, you can expect a night full of trivia and fun! \nGrab your friends\, family\, and colleagues to make your team of six and compete. Prizes: 1st £30 Printroom Voucher 2nd £10 Printroom Voucher £1 entry per person
URL:https://virtual-lancaster.net/event/storey-quiz-night/2027-07-14/
LOCATION:The Storey\, Meeting House Lane\, Lancaster\, Lancashire\, LA1 1TH\, United Kingdom
ATTACH;FMTTYPE=image/jpeg:https://virtual-lancaster.net/wp-content/uploads/2012/10/storey-arts-09-10-12.jpg
END:VEVENT
BEGIN:VEVENT
DTSTART;TZID=Europe/London:20270721T190000
DTEND;TZID=Europe/London:20270721T220000
DTSTAMP:20260425T153943
CREATED:20260424T143715Z
LAST-MODIFIED:20260424T143947Z
UID:10000067-1816196400-1816207200@virtual-lancaster.net
SUMMARY:Event: Storey Quiz Night
DESCRIPTION:Join in every Wednesday from 7-10pm for the Storey Quiz Night! Hosted by BBC Radio Lancashire’s Mike Stevens\, you can expect a night full of trivia and fun! \nGrab your friends\, family\, and colleagues to make your team of six and compete. Prizes: 1st £30 Printroom Voucher 2nd £10 Printroom Voucher £1 entry per person
URL:https://virtual-lancaster.net/event/storey-quiz-night/2027-07-21/
LOCATION:The Storey\, Meeting House Lane\, Lancaster\, Lancashire\, LA1 1TH\, United Kingdom
ATTACH;FMTTYPE=image/jpeg:https://virtual-lancaster.net/wp-content/uploads/2012/10/storey-arts-09-10-12.jpg
END:VEVENT
BEGIN:VEVENT
DTSTART;TZID=Europe/London:20270728T190000
DTEND;TZID=Europe/London:20270728T220000
DTSTAMP:20260425T153943
CREATED:20260424T143715Z
LAST-MODIFIED:20260424T143947Z
UID:10000068-1816801200-1816812000@virtual-lancaster.net
SUMMARY:Event: Storey Quiz Night
DESCRIPTION:Join in every Wednesday from 7-10pm for the Storey Quiz Night! Hosted by BBC Radio Lancashire’s Mike Stevens\, you can expect a night full of trivia and fun! \nGrab your friends\, family\, and colleagues to make your team of six and compete. Prizes: 1st £30 Printroom Voucher 2nd £10 Printroom Voucher £1 entry per person
URL:https://virtual-lancaster.net/event/storey-quiz-night/2027-07-28/
LOCATION:The Storey\, Meeting House Lane\, Lancaster\, Lancashire\, LA1 1TH\, United Kingdom
ATTACH;FMTTYPE=image/jpeg:https://virtual-lancaster.net/wp-content/uploads/2012/10/storey-arts-09-10-12.jpg
END:VEVENT
BEGIN:VEVENT
DTSTART;TZID=Europe/London:20270804T190000
DTEND;TZID=Europe/London:20270804T220000
DTSTAMP:20260425T153943
CREATED:20260424T143715Z
LAST-MODIFIED:20260424T143947Z
UID:10000069-1817406000-1817416800@virtual-lancaster.net
SUMMARY:Event: Storey Quiz Night
DESCRIPTION:Join in every Wednesday from 7-10pm for the Storey Quiz Night! Hosted by BBC Radio Lancashire’s Mike Stevens\, you can expect a night full of trivia and fun! \nGrab your friends\, family\, and colleagues to make your team of six and compete. Prizes: 1st £30 Printroom Voucher 2nd £10 Printroom Voucher £1 entry per person
URL:https://virtual-lancaster.net/event/storey-quiz-night/2027-08-04/
LOCATION:The Storey\, Meeting House Lane\, Lancaster\, Lancashire\, LA1 1TH\, United Kingdom
ATTACH;FMTTYPE=image/jpeg:https://virtual-lancaster.net/wp-content/uploads/2012/10/storey-arts-09-10-12.jpg
END:VEVENT
BEGIN:VEVENT
DTSTART;TZID=Europe/London:20270811T190000
DTEND;TZID=Europe/London:20270811T220000
DTSTAMP:20260425T153943
CREATED:20260424T143715Z
LAST-MODIFIED:20260424T143947Z
UID:10000070-1818010800-1818021600@virtual-lancaster.net
SUMMARY:Event: Storey Quiz Night
DESCRIPTION:Join in every Wednesday from 7-10pm for the Storey Quiz Night! Hosted by BBC Radio Lancashire’s Mike Stevens\, you can expect a night full of trivia and fun! \nGrab your friends\, family\, and colleagues to make your team of six and compete. Prizes: 1st £30 Printroom Voucher 2nd £10 Printroom Voucher £1 entry per person
URL:https://virtual-lancaster.net/event/storey-quiz-night/2027-08-11/
LOCATION:The Storey\, Meeting House Lane\, Lancaster\, Lancashire\, LA1 1TH\, United Kingdom
ATTACH;FMTTYPE=image/jpeg:https://virtual-lancaster.net/wp-content/uploads/2012/10/storey-arts-09-10-12.jpg
END:VEVENT
BEGIN:VEVENT
DTSTART;TZID=Europe/London:20270818T190000
DTEND;TZID=Europe/London:20270818T220000
DTSTAMP:20260425T153943
CREATED:20260424T143715Z
LAST-MODIFIED:20260424T143947Z
UID:10000071-1818615600-1818626400@virtual-lancaster.net
SUMMARY:Event: Storey Quiz Night
DESCRIPTION:Join in every Wednesday from 7-10pm for the Storey Quiz Night! Hosted by BBC Radio Lancashire’s Mike Stevens\, you can expect a night full of trivia and fun! \nGrab your friends\, family\, and colleagues to make your team of six and compete. Prizes: 1st £30 Printroom Voucher 2nd £10 Printroom Voucher £1 entry per person
URL:https://virtual-lancaster.net/event/storey-quiz-night/2027-08-18/
LOCATION:The Storey\, Meeting House Lane\, Lancaster\, Lancashire\, LA1 1TH\, United Kingdom
ATTACH;FMTTYPE=image/jpeg:https://virtual-lancaster.net/wp-content/uploads/2012/10/storey-arts-09-10-12.jpg
END:VEVENT
BEGIN:VEVENT
DTSTART;TZID=Europe/London:20270825T190000
DTEND;TZID=Europe/London:20270825T220000
DTSTAMP:20260425T153943
CREATED:20260424T143715Z
LAST-MODIFIED:20260424T143947Z
UID:10000072-1819220400-1819231200@virtual-lancaster.net
SUMMARY:Event: Storey Quiz Night
DESCRIPTION:Join in every Wednesday from 7-10pm for the Storey Quiz Night! Hosted by BBC Radio Lancashire’s Mike Stevens\, you can expect a night full of trivia and fun! \nGrab your friends\, family\, and colleagues to make your team of six and compete. Prizes: 1st £30 Printroom Voucher 2nd £10 Printroom Voucher £1 entry per person
URL:https://virtual-lancaster.net/event/storey-quiz-night/2027-08-25/
LOCATION:The Storey\, Meeting House Lane\, Lancaster\, Lancashire\, LA1 1TH\, United Kingdom
ATTACH;FMTTYPE=image/jpeg:https://virtual-lancaster.net/wp-content/uploads/2012/10/storey-arts-09-10-12.jpg
END:VEVENT
BEGIN:VEVENT
DTSTART;TZID=Europe/London:20270901T190000
DTEND;TZID=Europe/London:20270901T220000
DTSTAMP:20260425T153943
CREATED:20260424T143715Z
LAST-MODIFIED:20260424T143947Z
UID:10000073-1819825200-1819836000@virtual-lancaster.net
SUMMARY:Event: Storey Quiz Night
DESCRIPTION:Join in every Wednesday from 7-10pm for the Storey Quiz Night! Hosted by BBC Radio Lancashire’s Mike Stevens\, you can expect a night full of trivia and fun! \nGrab your friends\, family\, and colleagues to make your team of six and compete. Prizes: 1st £30 Printroom Voucher 2nd £10 Printroom Voucher £1 entry per person
URL:https://virtual-lancaster.net/event/storey-quiz-night/2027-09-01/
LOCATION:The Storey\, Meeting House Lane\, Lancaster\, Lancashire\, LA1 1TH\, United Kingdom
ATTACH;FMTTYPE=image/jpeg:https://virtual-lancaster.net/wp-content/uploads/2012/10/storey-arts-09-10-12.jpg
END:VEVENT
BEGIN:VEVENT
DTSTART;TZID=Europe/London:20270908T190000
DTEND;TZID=Europe/London:20270908T220000
DTSTAMP:20260425T153943
CREATED:20260424T143715Z
LAST-MODIFIED:20260424T143947Z
UID:10000074-1820430000-1820440800@virtual-lancaster.net
SUMMARY:Event: Storey Quiz Night
DESCRIPTION:Join in every Wednesday from 7-10pm for the Storey Quiz Night! Hosted by BBC Radio Lancashire’s Mike Stevens\, you can expect a night full of trivia and fun! \nGrab your friends\, family\, and colleagues to make your team of six and compete. Prizes: 1st £30 Printroom Voucher 2nd £10 Printroom Voucher £1 entry per person
URL:https://virtual-lancaster.net/event/storey-quiz-night/2027-09-08/
LOCATION:The Storey\, Meeting House Lane\, Lancaster\, Lancashire\, LA1 1TH\, United Kingdom
ATTACH;FMTTYPE=image/jpeg:https://virtual-lancaster.net/wp-content/uploads/2012/10/storey-arts-09-10-12.jpg
END:VEVENT
BEGIN:VEVENT
DTSTART;TZID=Europe/London:20270915T190000
DTEND;TZID=Europe/London:20270915T220000
DTSTAMP:20260425T153943
CREATED:20260424T143715Z
LAST-MODIFIED:20260424T143947Z
UID:10000075-1821034800-1821045600@virtual-lancaster.net
SUMMARY:Event: Storey Quiz Night
DESCRIPTION:Join in every Wednesday from 7-10pm for the Storey Quiz Night! Hosted by BBC Radio Lancashire’s Mike Stevens\, you can expect a night full of trivia and fun! \nGrab your friends\, family\, and colleagues to make your team of six and compete. Prizes: 1st £30 Printroom Voucher 2nd £10 Printroom Voucher £1 entry per person
URL:https://virtual-lancaster.net/event/storey-quiz-night/2027-09-15/
LOCATION:The Storey\, Meeting House Lane\, Lancaster\, Lancashire\, LA1 1TH\, United Kingdom
ATTACH;FMTTYPE=image/jpeg:https://virtual-lancaster.net/wp-content/uploads/2012/10/storey-arts-09-10-12.jpg
END:VEVENT
BEGIN:VEVENT
DTSTART;TZID=Europe/London:20270922T190000
DTEND;TZID=Europe/London:20270922T220000
DTSTAMP:20260425T153943
CREATED:20260424T143715Z
LAST-MODIFIED:20260424T143947Z
UID:10000076-1821639600-1821650400@virtual-lancaster.net
SUMMARY:Event: Storey Quiz Night
DESCRIPTION:Join in every Wednesday from 7-10pm for the Storey Quiz Night! Hosted by BBC Radio Lancashire’s Mike Stevens\, you can expect a night full of trivia and fun! \nGrab your friends\, family\, and colleagues to make your team of six and compete. Prizes: 1st £30 Printroom Voucher 2nd £10 Printroom Voucher £1 entry per person
URL:https://virtual-lancaster.net/event/storey-quiz-night/2027-09-22/
LOCATION:The Storey\, Meeting House Lane\, Lancaster\, Lancashire\, LA1 1TH\, United Kingdom
ATTACH;FMTTYPE=image/jpeg:https://virtual-lancaster.net/wp-content/uploads/2012/10/storey-arts-09-10-12.jpg
END:VEVENT
BEGIN:VEVENT
DTSTART;TZID=Europe/London:20270929T190000
DTEND;TZID=Europe/London:20270929T220000
DTSTAMP:20260425T153943
CREATED:20260424T143715Z
LAST-MODIFIED:20260424T143947Z
UID:10000077-1822244400-1822255200@virtual-lancaster.net
SUMMARY:Event: Storey Quiz Night
DESCRIPTION:Join in every Wednesday from 7-10pm for the Storey Quiz Night! Hosted by BBC Radio Lancashire’s Mike Stevens\, you can expect a night full of trivia and fun! \nGrab your friends\, family\, and colleagues to make your team of six and compete. Prizes: 1st £30 Printroom Voucher 2nd £10 Printroom Voucher £1 entry per person
URL:https://virtual-lancaster.net/event/storey-quiz-night/2027-09-29/
LOCATION:The Storey\, Meeting House Lane\, Lancaster\, Lancashire\, LA1 1TH\, United Kingdom
ATTACH;FMTTYPE=image/jpeg:https://virtual-lancaster.net/wp-content/uploads/2012/10/storey-arts-09-10-12.jpg
END:VEVENT
END:VCALENDAR