BEGIN:VCALENDAR
VERSION:2.0
PRODID:-//Virtual Lancaster - ECPv6.15.20//NONSGML v1.0//EN
CALSCALE:GREGORIAN
METHOD:PUBLISH
X-ORIGINAL-URL:https://virtual-lancaster.net
X-WR-CALDESC:Events for Virtual Lancaster
REFRESH-INTERVAL;VALUE=DURATION:PT1H
X-Robots-Tag:noindex
X-PUBLISHED-TTL:PT1H
BEGIN:VTIMEZONE
TZID:Europe/London
BEGIN:DAYLIGHT
TZOFFSETFROM:+0000
TZOFFSETTO:+0100
TZNAME:BST
DTSTART:20270328T010000
END:DAYLIGHT
BEGIN:STANDARD
TZOFFSETFROM:+0100
TZOFFSETTO:+0000
TZNAME:GMT
DTSTART:20271031T010000
END:STANDARD
BEGIN:DAYLIGHT
TZOFFSETFROM:+0000
TZOFFSETTO:+0100
TZNAME:BST
DTSTART:20280326T010000
END:DAYLIGHT
BEGIN:STANDARD
TZOFFSETFROM:+0100
TZOFFSETTO:+0000
TZNAME:GMT
DTSTART:20281029T010000
END:STANDARD
BEGIN:DAYLIGHT
TZOFFSETFROM:+0000
TZOFFSETTO:+0100
TZNAME:BST
DTSTART:20290325T010000
END:DAYLIGHT
BEGIN:STANDARD
TZOFFSETFROM:+0100
TZOFFSETTO:+0000
TZNAME:GMT
DTSTART:20291028T010000
END:STANDARD
END:VTIMEZONE
BEGIN:VEVENT
DTSTART;TZID=Europe/London:20280405T190000
DTEND;TZID=Europe/London:20280405T220000
DTSTAMP:20260425T163106
CREATED:20260424T143715Z
LAST-MODIFIED:20260424T143947Z
UID:10000104-1838574000-1838584800@virtual-lancaster.net
SUMMARY:Event: Storey Quiz Night
DESCRIPTION:Join in every Wednesday from 7-10pm for the Storey Quiz Night! Hosted by BBC Radio Lancashire’s Mike Stevens\, you can expect a night full of trivia and fun! \nGrab your friends\, family\, and colleagues to make your team of six and compete. Prizes: 1st £30 Printroom Voucher 2nd £10 Printroom Voucher £1 entry per person
URL:https://virtual-lancaster.net/event/storey-quiz-night/2028-04-05/
LOCATION:The Storey\, Meeting House Lane\, Lancaster\, Lancashire\, LA1 1TH\, United Kingdom
ATTACH;FMTTYPE=image/jpeg:https://virtual-lancaster.net/wp-content/uploads/2012/10/storey-arts-09-10-12.jpg
END:VEVENT
BEGIN:VEVENT
DTSTART;TZID=Europe/London:20280412T190000
DTEND;TZID=Europe/London:20280412T220000
DTSTAMP:20260425T163106
CREATED:20260424T143715Z
LAST-MODIFIED:20260424T143947Z
UID:10000105-1839178800-1839189600@virtual-lancaster.net
SUMMARY:Event: Storey Quiz Night
DESCRIPTION:Join in every Wednesday from 7-10pm for the Storey Quiz Night! Hosted by BBC Radio Lancashire’s Mike Stevens\, you can expect a night full of trivia and fun! \nGrab your friends\, family\, and colleagues to make your team of six and compete. Prizes: 1st £30 Printroom Voucher 2nd £10 Printroom Voucher £1 entry per person
URL:https://virtual-lancaster.net/event/storey-quiz-night/2028-04-12/
LOCATION:The Storey\, Meeting House Lane\, Lancaster\, Lancashire\, LA1 1TH\, United Kingdom
ATTACH;FMTTYPE=image/jpeg:https://virtual-lancaster.net/wp-content/uploads/2012/10/storey-arts-09-10-12.jpg
END:VEVENT
BEGIN:VEVENT
DTSTART;TZID=Europe/London:20280419T190000
DTEND;TZID=Europe/London:20280419T220000
DTSTAMP:20260425T163106
CREATED:20260424T143715Z
LAST-MODIFIED:20260424T143947Z
UID:10000106-1839783600-1839794400@virtual-lancaster.net
SUMMARY:Event: Storey Quiz Night
DESCRIPTION:Join in every Wednesday from 7-10pm for the Storey Quiz Night! Hosted by BBC Radio Lancashire’s Mike Stevens\, you can expect a night full of trivia and fun! \nGrab your friends\, family\, and colleagues to make your team of six and compete. Prizes: 1st £30 Printroom Voucher 2nd £10 Printroom Voucher £1 entry per person
URL:https://virtual-lancaster.net/event/storey-quiz-night/2028-04-19/
LOCATION:The Storey\, Meeting House Lane\, Lancaster\, Lancashire\, LA1 1TH\, United Kingdom
ATTACH;FMTTYPE=image/jpeg:https://virtual-lancaster.net/wp-content/uploads/2012/10/storey-arts-09-10-12.jpg
END:VEVENT
BEGIN:VEVENT
DTSTART;TZID=Europe/London:20280426T190000
DTEND;TZID=Europe/London:20280426T220000
DTSTAMP:20260425T163106
CREATED:20260424T143715Z
LAST-MODIFIED:20260424T143947Z
UID:10000107-1840388400-1840399200@virtual-lancaster.net
SUMMARY:Event: Storey Quiz Night
DESCRIPTION:Join in every Wednesday from 7-10pm for the Storey Quiz Night! Hosted by BBC Radio Lancashire’s Mike Stevens\, you can expect a night full of trivia and fun! \nGrab your friends\, family\, and colleagues to make your team of six and compete. Prizes: 1st £30 Printroom Voucher 2nd £10 Printroom Voucher £1 entry per person
URL:https://virtual-lancaster.net/event/storey-quiz-night/2028-04-26/
LOCATION:The Storey\, Meeting House Lane\, Lancaster\, Lancashire\, LA1 1TH\, United Kingdom
ATTACH;FMTTYPE=image/jpeg:https://virtual-lancaster.net/wp-content/uploads/2012/10/storey-arts-09-10-12.jpg
END:VEVENT
BEGIN:VEVENT
DTSTART;TZID=Europe/London:20280503T190000
DTEND;TZID=Europe/London:20280503T220000
DTSTAMP:20260425T163106
CREATED:20260424T143715Z
LAST-MODIFIED:20260424T143947Z
UID:10000108-1840993200-1841004000@virtual-lancaster.net
SUMMARY:Event: Storey Quiz Night
DESCRIPTION:Join in every Wednesday from 7-10pm for the Storey Quiz Night! Hosted by BBC Radio Lancashire’s Mike Stevens\, you can expect a night full of trivia and fun! \nGrab your friends\, family\, and colleagues to make your team of six and compete. Prizes: 1st £30 Printroom Voucher 2nd £10 Printroom Voucher £1 entry per person
URL:https://virtual-lancaster.net/event/storey-quiz-night/2028-05-03/
LOCATION:The Storey\, Meeting House Lane\, Lancaster\, Lancashire\, LA1 1TH\, United Kingdom
ATTACH;FMTTYPE=image/jpeg:https://virtual-lancaster.net/wp-content/uploads/2012/10/storey-arts-09-10-12.jpg
END:VEVENT
BEGIN:VEVENT
DTSTART;TZID=Europe/London:20280510T190000
DTEND;TZID=Europe/London:20280510T220000
DTSTAMP:20260425T163106
CREATED:20260424T143715Z
LAST-MODIFIED:20260424T143947Z
UID:10000109-1841598000-1841608800@virtual-lancaster.net
SUMMARY:Event: Storey Quiz Night
DESCRIPTION:Join in every Wednesday from 7-10pm for the Storey Quiz Night! Hosted by BBC Radio Lancashire’s Mike Stevens\, you can expect a night full of trivia and fun! \nGrab your friends\, family\, and colleagues to make your team of six and compete. Prizes: 1st £30 Printroom Voucher 2nd £10 Printroom Voucher £1 entry per person
URL:https://virtual-lancaster.net/event/storey-quiz-night/2028-05-10/
LOCATION:The Storey\, Meeting House Lane\, Lancaster\, Lancashire\, LA1 1TH\, United Kingdom
ATTACH;FMTTYPE=image/jpeg:https://virtual-lancaster.net/wp-content/uploads/2012/10/storey-arts-09-10-12.jpg
END:VEVENT
BEGIN:VEVENT
DTSTART;TZID=Europe/London:20280517T190000
DTEND;TZID=Europe/London:20280517T220000
DTSTAMP:20260425T163106
CREATED:20260424T143715Z
LAST-MODIFIED:20260424T143947Z
UID:10000110-1842202800-1842213600@virtual-lancaster.net
SUMMARY:Event: Storey Quiz Night
DESCRIPTION:Join in every Wednesday from 7-10pm for the Storey Quiz Night! Hosted by BBC Radio Lancashire’s Mike Stevens\, you can expect a night full of trivia and fun! \nGrab your friends\, family\, and colleagues to make your team of six and compete. Prizes: 1st £30 Printroom Voucher 2nd £10 Printroom Voucher £1 entry per person
URL:https://virtual-lancaster.net/event/storey-quiz-night/2028-05-17/
LOCATION:The Storey\, Meeting House Lane\, Lancaster\, Lancashire\, LA1 1TH\, United Kingdom
ATTACH;FMTTYPE=image/jpeg:https://virtual-lancaster.net/wp-content/uploads/2012/10/storey-arts-09-10-12.jpg
END:VEVENT
BEGIN:VEVENT
DTSTART;TZID=Europe/London:20280524T190000
DTEND;TZID=Europe/London:20280524T220000
DTSTAMP:20260425T163106
CREATED:20260424T143715Z
LAST-MODIFIED:20260424T143947Z
UID:10000111-1842807600-1842818400@virtual-lancaster.net
SUMMARY:Event: Storey Quiz Night
DESCRIPTION:Join in every Wednesday from 7-10pm for the Storey Quiz Night! Hosted by BBC Radio Lancashire’s Mike Stevens\, you can expect a night full of trivia and fun! \nGrab your friends\, family\, and colleagues to make your team of six and compete. Prizes: 1st £30 Printroom Voucher 2nd £10 Printroom Voucher £1 entry per person
URL:https://virtual-lancaster.net/event/storey-quiz-night/2028-05-24/
LOCATION:The Storey\, Meeting House Lane\, Lancaster\, Lancashire\, LA1 1TH\, United Kingdom
ATTACH;FMTTYPE=image/jpeg:https://virtual-lancaster.net/wp-content/uploads/2012/10/storey-arts-09-10-12.jpg
END:VEVENT
BEGIN:VEVENT
DTSTART;TZID=Europe/London:20280531T190000
DTEND;TZID=Europe/London:20280531T220000
DTSTAMP:20260425T163106
CREATED:20260424T143715Z
LAST-MODIFIED:20260424T143947Z
UID:10000112-1843412400-1843423200@virtual-lancaster.net
SUMMARY:Event: Storey Quiz Night
DESCRIPTION:Join in every Wednesday from 7-10pm for the Storey Quiz Night! Hosted by BBC Radio Lancashire’s Mike Stevens\, you can expect a night full of trivia and fun! \nGrab your friends\, family\, and colleagues to make your team of six and compete. Prizes: 1st £30 Printroom Voucher 2nd £10 Printroom Voucher £1 entry per person
URL:https://virtual-lancaster.net/event/storey-quiz-night/2028-05-31/
LOCATION:The Storey\, Meeting House Lane\, Lancaster\, Lancashire\, LA1 1TH\, United Kingdom
ATTACH;FMTTYPE=image/jpeg:https://virtual-lancaster.net/wp-content/uploads/2012/10/storey-arts-09-10-12.jpg
END:VEVENT
BEGIN:VEVENT
DTSTART;TZID=Europe/London:20280607T190000
DTEND;TZID=Europe/London:20280607T220000
DTSTAMP:20260425T163106
CREATED:20260424T143715Z
LAST-MODIFIED:20260424T143947Z
UID:10000113-1844017200-1844028000@virtual-lancaster.net
SUMMARY:Event: Storey Quiz Night
DESCRIPTION:Join in every Wednesday from 7-10pm for the Storey Quiz Night! Hosted by BBC Radio Lancashire’s Mike Stevens\, you can expect a night full of trivia and fun! \nGrab your friends\, family\, and colleagues to make your team of six and compete. Prizes: 1st £30 Printroom Voucher 2nd £10 Printroom Voucher £1 entry per person
URL:https://virtual-lancaster.net/event/storey-quiz-night/2028-06-07/
LOCATION:The Storey\, Meeting House Lane\, Lancaster\, Lancashire\, LA1 1TH\, United Kingdom
ATTACH;FMTTYPE=image/jpeg:https://virtual-lancaster.net/wp-content/uploads/2012/10/storey-arts-09-10-12.jpg
END:VEVENT
BEGIN:VEVENT
DTSTART;TZID=Europe/London:20280614T190000
DTEND;TZID=Europe/London:20280614T220000
DTSTAMP:20260425T163106
CREATED:20260424T143715Z
LAST-MODIFIED:20260424T143947Z
UID:10000114-1844622000-1844632800@virtual-lancaster.net
SUMMARY:Event: Storey Quiz Night
DESCRIPTION:Join in every Wednesday from 7-10pm for the Storey Quiz Night! Hosted by BBC Radio Lancashire’s Mike Stevens\, you can expect a night full of trivia and fun! \nGrab your friends\, family\, and colleagues to make your team of six and compete. Prizes: 1st £30 Printroom Voucher 2nd £10 Printroom Voucher £1 entry per person
URL:https://virtual-lancaster.net/event/storey-quiz-night/2028-06-14/
LOCATION:The Storey\, Meeting House Lane\, Lancaster\, Lancashire\, LA1 1TH\, United Kingdom
ATTACH;FMTTYPE=image/jpeg:https://virtual-lancaster.net/wp-content/uploads/2012/10/storey-arts-09-10-12.jpg
END:VEVENT
BEGIN:VEVENT
DTSTART;TZID=Europe/London:20280621T190000
DTEND;TZID=Europe/London:20280621T220000
DTSTAMP:20260425T163106
CREATED:20260424T143715Z
LAST-MODIFIED:20260424T143947Z
UID:10000115-1845226800-1845237600@virtual-lancaster.net
SUMMARY:Event: Storey Quiz Night
DESCRIPTION:Join in every Wednesday from 7-10pm for the Storey Quiz Night! Hosted by BBC Radio Lancashire’s Mike Stevens\, you can expect a night full of trivia and fun! \nGrab your friends\, family\, and colleagues to make your team of six and compete. Prizes: 1st £30 Printroom Voucher 2nd £10 Printroom Voucher £1 entry per person
URL:https://virtual-lancaster.net/event/storey-quiz-night/2028-06-21/
LOCATION:The Storey\, Meeting House Lane\, Lancaster\, Lancashire\, LA1 1TH\, United Kingdom
ATTACH;FMTTYPE=image/jpeg:https://virtual-lancaster.net/wp-content/uploads/2012/10/storey-arts-09-10-12.jpg
END:VEVENT
BEGIN:VEVENT
DTSTART;TZID=Europe/London:20280628T190000
DTEND;TZID=Europe/London:20280628T220000
DTSTAMP:20260425T163106
CREATED:20260424T143715Z
LAST-MODIFIED:20260424T143947Z
UID:10000116-1845831600-1845842400@virtual-lancaster.net
SUMMARY:Event: Storey Quiz Night
DESCRIPTION:Join in every Wednesday from 7-10pm for the Storey Quiz Night! Hosted by BBC Radio Lancashire’s Mike Stevens\, you can expect a night full of trivia and fun! \nGrab your friends\, family\, and colleagues to make your team of six and compete. Prizes: 1st £30 Printroom Voucher 2nd £10 Printroom Voucher £1 entry per person
URL:https://virtual-lancaster.net/event/storey-quiz-night/2028-06-28/
LOCATION:The Storey\, Meeting House Lane\, Lancaster\, Lancashire\, LA1 1TH\, United Kingdom
ATTACH;FMTTYPE=image/jpeg:https://virtual-lancaster.net/wp-content/uploads/2012/10/storey-arts-09-10-12.jpg
END:VEVENT
BEGIN:VEVENT
DTSTART;TZID=Europe/London:20280705T190000
DTEND;TZID=Europe/London:20280705T220000
DTSTAMP:20260425T163106
CREATED:20260424T143715Z
LAST-MODIFIED:20260424T143947Z
UID:10000117-1846436400-1846447200@virtual-lancaster.net
SUMMARY:Event: Storey Quiz Night
DESCRIPTION:Join in every Wednesday from 7-10pm for the Storey Quiz Night! Hosted by BBC Radio Lancashire’s Mike Stevens\, you can expect a night full of trivia and fun! \nGrab your friends\, family\, and colleagues to make your team of six and compete. Prizes: 1st £30 Printroom Voucher 2nd £10 Printroom Voucher £1 entry per person
URL:https://virtual-lancaster.net/event/storey-quiz-night/2028-07-05/
LOCATION:The Storey\, Meeting House Lane\, Lancaster\, Lancashire\, LA1 1TH\, United Kingdom
ATTACH;FMTTYPE=image/jpeg:https://virtual-lancaster.net/wp-content/uploads/2012/10/storey-arts-09-10-12.jpg
END:VEVENT
BEGIN:VEVENT
DTSTART;TZID=Europe/London:20280712T190000
DTEND;TZID=Europe/London:20280712T220000
DTSTAMP:20260425T163106
CREATED:20260424T143715Z
LAST-MODIFIED:20260424T143947Z
UID:10000118-1847041200-1847052000@virtual-lancaster.net
SUMMARY:Event: Storey Quiz Night
DESCRIPTION:Join in every Wednesday from 7-10pm for the Storey Quiz Night! Hosted by BBC Radio Lancashire’s Mike Stevens\, you can expect a night full of trivia and fun! \nGrab your friends\, family\, and colleagues to make your team of six and compete. Prizes: 1st £30 Printroom Voucher 2nd £10 Printroom Voucher £1 entry per person
URL:https://virtual-lancaster.net/event/storey-quiz-night/2028-07-12/
LOCATION:The Storey\, Meeting House Lane\, Lancaster\, Lancashire\, LA1 1TH\, United Kingdom
ATTACH;FMTTYPE=image/jpeg:https://virtual-lancaster.net/wp-content/uploads/2012/10/storey-arts-09-10-12.jpg
END:VEVENT
BEGIN:VEVENT
DTSTART;TZID=Europe/London:20280719T190000
DTEND;TZID=Europe/London:20280719T220000
DTSTAMP:20260425T163106
CREATED:20260424T143715Z
LAST-MODIFIED:20260424T143947Z
UID:10000119-1847646000-1847656800@virtual-lancaster.net
SUMMARY:Event: Storey Quiz Night
DESCRIPTION:Join in every Wednesday from 7-10pm for the Storey Quiz Night! Hosted by BBC Radio Lancashire’s Mike Stevens\, you can expect a night full of trivia and fun! \nGrab your friends\, family\, and colleagues to make your team of six and compete. Prizes: 1st £30 Printroom Voucher 2nd £10 Printroom Voucher £1 entry per person
URL:https://virtual-lancaster.net/event/storey-quiz-night/2028-07-19/
LOCATION:The Storey\, Meeting House Lane\, Lancaster\, Lancashire\, LA1 1TH\, United Kingdom
ATTACH;FMTTYPE=image/jpeg:https://virtual-lancaster.net/wp-content/uploads/2012/10/storey-arts-09-10-12.jpg
END:VEVENT
BEGIN:VEVENT
DTSTART;TZID=Europe/London:20280726T190000
DTEND;TZID=Europe/London:20280726T220000
DTSTAMP:20260425T163106
CREATED:20260424T143715Z
LAST-MODIFIED:20260424T143947Z
UID:10000120-1848250800-1848261600@virtual-lancaster.net
SUMMARY:Event: Storey Quiz Night
DESCRIPTION:Join in every Wednesday from 7-10pm for the Storey Quiz Night! Hosted by BBC Radio Lancashire’s Mike Stevens\, you can expect a night full of trivia and fun! \nGrab your friends\, family\, and colleagues to make your team of six and compete. Prizes: 1st £30 Printroom Voucher 2nd £10 Printroom Voucher £1 entry per person
URL:https://virtual-lancaster.net/event/storey-quiz-night/2028-07-26/
LOCATION:The Storey\, Meeting House Lane\, Lancaster\, Lancashire\, LA1 1TH\, United Kingdom
ATTACH;FMTTYPE=image/jpeg:https://virtual-lancaster.net/wp-content/uploads/2012/10/storey-arts-09-10-12.jpg
END:VEVENT
BEGIN:VEVENT
DTSTART;TZID=Europe/London:20280802T190000
DTEND;TZID=Europe/London:20280802T220000
DTSTAMP:20260425T163106
CREATED:20260424T143715Z
LAST-MODIFIED:20260424T143947Z
UID:10000121-1848855600-1848866400@virtual-lancaster.net
SUMMARY:Event: Storey Quiz Night
DESCRIPTION:Join in every Wednesday from 7-10pm for the Storey Quiz Night! Hosted by BBC Radio Lancashire’s Mike Stevens\, you can expect a night full of trivia and fun! \nGrab your friends\, family\, and colleagues to make your team of six and compete. Prizes: 1st £30 Printroom Voucher 2nd £10 Printroom Voucher £1 entry per person
URL:https://virtual-lancaster.net/event/storey-quiz-night/2028-08-02/
LOCATION:The Storey\, Meeting House Lane\, Lancaster\, Lancashire\, LA1 1TH\, United Kingdom
ATTACH;FMTTYPE=image/jpeg:https://virtual-lancaster.net/wp-content/uploads/2012/10/storey-arts-09-10-12.jpg
END:VEVENT
BEGIN:VEVENT
DTSTART;TZID=Europe/London:20280809T190000
DTEND;TZID=Europe/London:20280809T220000
DTSTAMP:20260425T163106
CREATED:20260424T143715Z
LAST-MODIFIED:20260424T143947Z
UID:10000122-1849460400-1849471200@virtual-lancaster.net
SUMMARY:Event: Storey Quiz Night
DESCRIPTION:Join in every Wednesday from 7-10pm for the Storey Quiz Night! Hosted by BBC Radio Lancashire’s Mike Stevens\, you can expect a night full of trivia and fun! \nGrab your friends\, family\, and colleagues to make your team of six and compete. Prizes: 1st £30 Printroom Voucher 2nd £10 Printroom Voucher £1 entry per person
URL:https://virtual-lancaster.net/event/storey-quiz-night/2028-08-09/
LOCATION:The Storey\, Meeting House Lane\, Lancaster\, Lancashire\, LA1 1TH\, United Kingdom
ATTACH;FMTTYPE=image/jpeg:https://virtual-lancaster.net/wp-content/uploads/2012/10/storey-arts-09-10-12.jpg
END:VEVENT
BEGIN:VEVENT
DTSTART;TZID=Europe/London:20280816T190000
DTEND;TZID=Europe/London:20280816T220000
DTSTAMP:20260425T163106
CREATED:20260424T143715Z
LAST-MODIFIED:20260424T143947Z
UID:10000123-1850065200-1850076000@virtual-lancaster.net
SUMMARY:Event: Storey Quiz Night
DESCRIPTION:Join in every Wednesday from 7-10pm for the Storey Quiz Night! Hosted by BBC Radio Lancashire’s Mike Stevens\, you can expect a night full of trivia and fun! \nGrab your friends\, family\, and colleagues to make your team of six and compete. Prizes: 1st £30 Printroom Voucher 2nd £10 Printroom Voucher £1 entry per person
URL:https://virtual-lancaster.net/event/storey-quiz-night/2028-08-16/
LOCATION:The Storey\, Meeting House Lane\, Lancaster\, Lancashire\, LA1 1TH\, United Kingdom
ATTACH;FMTTYPE=image/jpeg:https://virtual-lancaster.net/wp-content/uploads/2012/10/storey-arts-09-10-12.jpg
END:VEVENT
BEGIN:VEVENT
DTSTART;TZID=Europe/London:20280823T190000
DTEND;TZID=Europe/London:20280823T220000
DTSTAMP:20260425T163106
CREATED:20260424T143715Z
LAST-MODIFIED:20260424T143947Z
UID:10000124-1850670000-1850680800@virtual-lancaster.net
SUMMARY:Event: Storey Quiz Night
DESCRIPTION:Join in every Wednesday from 7-10pm for the Storey Quiz Night! Hosted by BBC Radio Lancashire’s Mike Stevens\, you can expect a night full of trivia and fun! \nGrab your friends\, family\, and colleagues to make your team of six and compete. Prizes: 1st £30 Printroom Voucher 2nd £10 Printroom Voucher £1 entry per person
URL:https://virtual-lancaster.net/event/storey-quiz-night/2028-08-23/
LOCATION:The Storey\, Meeting House Lane\, Lancaster\, Lancashire\, LA1 1TH\, United Kingdom
ATTACH;FMTTYPE=image/jpeg:https://virtual-lancaster.net/wp-content/uploads/2012/10/storey-arts-09-10-12.jpg
END:VEVENT
BEGIN:VEVENT
DTSTART;TZID=Europe/London:20280830T190000
DTEND;TZID=Europe/London:20280830T220000
DTSTAMP:20260425T163106
CREATED:20260424T143715Z
LAST-MODIFIED:20260424T143947Z
UID:10000125-1851274800-1851285600@virtual-lancaster.net
SUMMARY:Event: Storey Quiz Night
DESCRIPTION:Join in every Wednesday from 7-10pm for the Storey Quiz Night! Hosted by BBC Radio Lancashire’s Mike Stevens\, you can expect a night full of trivia and fun! \nGrab your friends\, family\, and colleagues to make your team of six and compete. Prizes: 1st £30 Printroom Voucher 2nd £10 Printroom Voucher £1 entry per person
URL:https://virtual-lancaster.net/event/storey-quiz-night/2028-08-30/
LOCATION:The Storey\, Meeting House Lane\, Lancaster\, Lancashire\, LA1 1TH\, United Kingdom
ATTACH;FMTTYPE=image/jpeg:https://virtual-lancaster.net/wp-content/uploads/2012/10/storey-arts-09-10-12.jpg
END:VEVENT
BEGIN:VEVENT
DTSTART;TZID=Europe/London:20280906T190000
DTEND;TZID=Europe/London:20280906T220000
DTSTAMP:20260425T163106
CREATED:20260424T143715Z
LAST-MODIFIED:20260424T143947Z
UID:10000126-1851879600-1851890400@virtual-lancaster.net
SUMMARY:Event: Storey Quiz Night
DESCRIPTION:Join in every Wednesday from 7-10pm for the Storey Quiz Night! Hosted by BBC Radio Lancashire’s Mike Stevens\, you can expect a night full of trivia and fun! \nGrab your friends\, family\, and colleagues to make your team of six and compete. Prizes: 1st £30 Printroom Voucher 2nd £10 Printroom Voucher £1 entry per person
URL:https://virtual-lancaster.net/event/storey-quiz-night/2028-09-06/
LOCATION:The Storey\, Meeting House Lane\, Lancaster\, Lancashire\, LA1 1TH\, United Kingdom
ATTACH;FMTTYPE=image/jpeg:https://virtual-lancaster.net/wp-content/uploads/2012/10/storey-arts-09-10-12.jpg
END:VEVENT
BEGIN:VEVENT
DTSTART;TZID=Europe/London:20280913T190000
DTEND;TZID=Europe/London:20280913T220000
DTSTAMP:20260425T163106
CREATED:20260424T143715Z
LAST-MODIFIED:20260424T143947Z
UID:10000127-1852484400-1852495200@virtual-lancaster.net
SUMMARY:Event: Storey Quiz Night
DESCRIPTION:Join in every Wednesday from 7-10pm for the Storey Quiz Night! Hosted by BBC Radio Lancashire’s Mike Stevens\, you can expect a night full of trivia and fun! \nGrab your friends\, family\, and colleagues to make your team of six and compete. Prizes: 1st £30 Printroom Voucher 2nd £10 Printroom Voucher £1 entry per person
URL:https://virtual-lancaster.net/event/storey-quiz-night/2028-09-13/
LOCATION:The Storey\, Meeting House Lane\, Lancaster\, Lancashire\, LA1 1TH\, United Kingdom
ATTACH;FMTTYPE=image/jpeg:https://virtual-lancaster.net/wp-content/uploads/2012/10/storey-arts-09-10-12.jpg
END:VEVENT
BEGIN:VEVENT
DTSTART;TZID=Europe/London:20280920T190000
DTEND;TZID=Europe/London:20280920T220000
DTSTAMP:20260425T163106
CREATED:20260424T143715Z
LAST-MODIFIED:20260424T143947Z
UID:10000128-1853089200-1853100000@virtual-lancaster.net
SUMMARY:Event: Storey Quiz Night
DESCRIPTION:Join in every Wednesday from 7-10pm for the Storey Quiz Night! Hosted by BBC Radio Lancashire’s Mike Stevens\, you can expect a night full of trivia and fun! \nGrab your friends\, family\, and colleagues to make your team of six and compete. Prizes: 1st £30 Printroom Voucher 2nd £10 Printroom Voucher £1 entry per person
URL:https://virtual-lancaster.net/event/storey-quiz-night/2028-09-20/
LOCATION:The Storey\, Meeting House Lane\, Lancaster\, Lancashire\, LA1 1TH\, United Kingdom
ATTACH;FMTTYPE=image/jpeg:https://virtual-lancaster.net/wp-content/uploads/2012/10/storey-arts-09-10-12.jpg
END:VEVENT
BEGIN:VEVENT
DTSTART;TZID=Europe/London:20280927T190000
DTEND;TZID=Europe/London:20280927T220000
DTSTAMP:20260425T163106
CREATED:20260424T143715Z
LAST-MODIFIED:20260424T143947Z
UID:10000129-1853694000-1853704800@virtual-lancaster.net
SUMMARY:Event: Storey Quiz Night
DESCRIPTION:Join in every Wednesday from 7-10pm for the Storey Quiz Night! Hosted by BBC Radio Lancashire’s Mike Stevens\, you can expect a night full of trivia and fun! \nGrab your friends\, family\, and colleagues to make your team of six and compete. Prizes: 1st £30 Printroom Voucher 2nd £10 Printroom Voucher £1 entry per person
URL:https://virtual-lancaster.net/event/storey-quiz-night/2028-09-27/
LOCATION:The Storey\, Meeting House Lane\, Lancaster\, Lancashire\, LA1 1TH\, United Kingdom
ATTACH;FMTTYPE=image/jpeg:https://virtual-lancaster.net/wp-content/uploads/2012/10/storey-arts-09-10-12.jpg
END:VEVENT
BEGIN:VEVENT
DTSTART;TZID=Europe/London:20281004T190000
DTEND;TZID=Europe/London:20281004T220000
DTSTAMP:20260425T163106
CREATED:20260424T143715Z
LAST-MODIFIED:20260424T143947Z
UID:10000130-1854298800-1854309600@virtual-lancaster.net
SUMMARY:Event: Storey Quiz Night
DESCRIPTION:Join in every Wednesday from 7-10pm for the Storey Quiz Night! Hosted by BBC Radio Lancashire’s Mike Stevens\, you can expect a night full of trivia and fun! \nGrab your friends\, family\, and colleagues to make your team of six and compete. Prizes: 1st £30 Printroom Voucher 2nd £10 Printroom Voucher £1 entry per person
URL:https://virtual-lancaster.net/event/storey-quiz-night/2028-10-04/
LOCATION:The Storey\, Meeting House Lane\, Lancaster\, Lancashire\, LA1 1TH\, United Kingdom
ATTACH;FMTTYPE=image/jpeg:https://virtual-lancaster.net/wp-content/uploads/2012/10/storey-arts-09-10-12.jpg
END:VEVENT
BEGIN:VEVENT
DTSTART;TZID=Europe/London:20281011T190000
DTEND;TZID=Europe/London:20281011T220000
DTSTAMP:20260425T163106
CREATED:20260424T143715Z
LAST-MODIFIED:20260424T143947Z
UID:10000131-1854903600-1854914400@virtual-lancaster.net
SUMMARY:Event: Storey Quiz Night
DESCRIPTION:Join in every Wednesday from 7-10pm for the Storey Quiz Night! Hosted by BBC Radio Lancashire’s Mike Stevens\, you can expect a night full of trivia and fun! \nGrab your friends\, family\, and colleagues to make your team of six and compete. Prizes: 1st £30 Printroom Voucher 2nd £10 Printroom Voucher £1 entry per person
URL:https://virtual-lancaster.net/event/storey-quiz-night/2028-10-11/
LOCATION:The Storey\, Meeting House Lane\, Lancaster\, Lancashire\, LA1 1TH\, United Kingdom
ATTACH;FMTTYPE=image/jpeg:https://virtual-lancaster.net/wp-content/uploads/2012/10/storey-arts-09-10-12.jpg
END:VEVENT
BEGIN:VEVENT
DTSTART;TZID=Europe/London:20281018T190000
DTEND;TZID=Europe/London:20281018T220000
DTSTAMP:20260425T163106
CREATED:20260424T143715Z
LAST-MODIFIED:20260424T143947Z
UID:10000132-1855508400-1855519200@virtual-lancaster.net
SUMMARY:Event: Storey Quiz Night
DESCRIPTION:Join in every Wednesday from 7-10pm for the Storey Quiz Night! Hosted by BBC Radio Lancashire’s Mike Stevens\, you can expect a night full of trivia and fun! \nGrab your friends\, family\, and colleagues to make your team of six and compete. Prizes: 1st £30 Printroom Voucher 2nd £10 Printroom Voucher £1 entry per person
URL:https://virtual-lancaster.net/event/storey-quiz-night/2028-10-18/
LOCATION:The Storey\, Meeting House Lane\, Lancaster\, Lancashire\, LA1 1TH\, United Kingdom
ATTACH;FMTTYPE=image/jpeg:https://virtual-lancaster.net/wp-content/uploads/2012/10/storey-arts-09-10-12.jpg
END:VEVENT
BEGIN:VEVENT
DTSTART;TZID=Europe/London:20281025T190000
DTEND;TZID=Europe/London:20281025T220000
DTSTAMP:20260425T163106
CREATED:20260424T143715Z
LAST-MODIFIED:20260424T143947Z
UID:10000133-1856113200-1856124000@virtual-lancaster.net
SUMMARY:Event: Storey Quiz Night
DESCRIPTION:Join in every Wednesday from 7-10pm for the Storey Quiz Night! Hosted by BBC Radio Lancashire’s Mike Stevens\, you can expect a night full of trivia and fun! \nGrab your friends\, family\, and colleagues to make your team of six and compete. Prizes: 1st £30 Printroom Voucher 2nd £10 Printroom Voucher £1 entry per person
URL:https://virtual-lancaster.net/event/storey-quiz-night/2028-10-25/
LOCATION:The Storey\, Meeting House Lane\, Lancaster\, Lancashire\, LA1 1TH\, United Kingdom
ATTACH;FMTTYPE=image/jpeg:https://virtual-lancaster.net/wp-content/uploads/2012/10/storey-arts-09-10-12.jpg
END:VEVENT
END:VCALENDAR