BEGIN:VCALENDAR
VERSION:2.0
PRODID:-//Virtual Lancaster - ECPv6.15.20//NONSGML v1.0//EN
CALSCALE:GREGORIAN
METHOD:PUBLISH
X-WR-CALNAME:Virtual Lancaster
X-ORIGINAL-URL:https://virtual-lancaster.net
X-WR-CALDESC:Events for Virtual Lancaster
REFRESH-INTERVAL;VALUE=DURATION:PT1H
X-Robots-Tag:noindex
X-PUBLISHED-TTL:PT1H
BEGIN:VTIMEZONE
TZID:Europe/London
BEGIN:DAYLIGHT
TZOFFSETFROM:+0000
TZOFFSETTO:+0100
TZNAME:BST
DTSTART:20250330T010000
END:DAYLIGHT
BEGIN:STANDARD
TZOFFSETFROM:+0100
TZOFFSETTO:+0000
TZNAME:GMT
DTSTART:20251026T010000
END:STANDARD
BEGIN:DAYLIGHT
TZOFFSETFROM:+0000
TZOFFSETTO:+0100
TZNAME:BST
DTSTART:20260329T010000
END:DAYLIGHT
BEGIN:STANDARD
TZOFFSETFROM:+0100
TZOFFSETTO:+0000
TZNAME:GMT
DTSTART:20261025T010000
END:STANDARD
BEGIN:DAYLIGHT
TZOFFSETFROM:+0000
TZOFFSETTO:+0100
TZNAME:BST
DTSTART:20270328T010000
END:DAYLIGHT
BEGIN:STANDARD
TZOFFSETFROM:+0100
TZOFFSETTO:+0000
TZNAME:GMT
DTSTART:20271031T010000
END:STANDARD
END:VTIMEZONE
BEGIN:VEVENT
DTSTART;TZID=Europe/London:20261125T190000
DTEND;TZID=Europe/London:20261125T220000
DTSTAMP:20260425T165812
CREATED:20260424T143715Z
LAST-MODIFIED:20260424T143947Z
UID:10000033-1795633200-1795644000@virtual-lancaster.net
SUMMARY:Event: Storey Quiz Night
DESCRIPTION:Join in every Wednesday from 7-10pm for the Storey Quiz Night! Hosted by BBC Radio Lancashire’s Mike Stevens\, you can expect a night full of trivia and fun! \nGrab your friends\, family\, and colleagues to make your team of six and compete. Prizes: 1st £30 Printroom Voucher 2nd £10 Printroom Voucher £1 entry per person
URL:https://virtual-lancaster.net/event/storey-quiz-night/2026-11-25/
LOCATION:The Storey\, Meeting House Lane\, Lancaster\, Lancashire\, LA1 1TH\, United Kingdom
ATTACH;FMTTYPE=image/jpeg:https://virtual-lancaster.net/wp-content/uploads/2012/10/storey-arts-09-10-12.jpg
END:VEVENT
BEGIN:VEVENT
DTSTART;TZID=Europe/London:20261118T190000
DTEND;TZID=Europe/London:20261118T220000
DTSTAMP:20260425T165812
CREATED:20260424T143715Z
LAST-MODIFIED:20260424T143947Z
UID:10000032-1795028400-1795039200@virtual-lancaster.net
SUMMARY:Event: Storey Quiz Night
DESCRIPTION:Join in every Wednesday from 7-10pm for the Storey Quiz Night! Hosted by BBC Radio Lancashire’s Mike Stevens\, you can expect a night full of trivia and fun! \nGrab your friends\, family\, and colleagues to make your team of six and compete. Prizes: 1st £30 Printroom Voucher 2nd £10 Printroom Voucher £1 entry per person
URL:https://virtual-lancaster.net/event/storey-quiz-night/2026-11-18/
LOCATION:The Storey\, Meeting House Lane\, Lancaster\, Lancashire\, LA1 1TH\, United Kingdom
ATTACH;FMTTYPE=image/jpeg:https://virtual-lancaster.net/wp-content/uploads/2012/10/storey-arts-09-10-12.jpg
END:VEVENT
BEGIN:VEVENT
DTSTART;TZID=Europe/London:20261111T190000
DTEND;TZID=Europe/London:20261111T220000
DTSTAMP:20260425T165812
CREATED:20260424T143715Z
LAST-MODIFIED:20260424T143947Z
UID:10000031-1794423600-1794434400@virtual-lancaster.net
SUMMARY:Event: Storey Quiz Night
DESCRIPTION:Join in every Wednesday from 7-10pm for the Storey Quiz Night! Hosted by BBC Radio Lancashire’s Mike Stevens\, you can expect a night full of trivia and fun! \nGrab your friends\, family\, and colleagues to make your team of six and compete. Prizes: 1st £30 Printroom Voucher 2nd £10 Printroom Voucher £1 entry per person
URL:https://virtual-lancaster.net/event/storey-quiz-night/2026-11-11/
LOCATION:The Storey\, Meeting House Lane\, Lancaster\, Lancashire\, LA1 1TH\, United Kingdom
ATTACH;FMTTYPE=image/jpeg:https://virtual-lancaster.net/wp-content/uploads/2012/10/storey-arts-09-10-12.jpg
END:VEVENT
BEGIN:VEVENT
DTSTART;TZID=Europe/London:20261104T190000
DTEND;TZID=Europe/London:20261104T220000
DTSTAMP:20260425T165812
CREATED:20260424T143715Z
LAST-MODIFIED:20260424T143947Z
UID:10000030-1793818800-1793829600@virtual-lancaster.net
SUMMARY:Event: Storey Quiz Night
DESCRIPTION:Join in every Wednesday from 7-10pm for the Storey Quiz Night! Hosted by BBC Radio Lancashire’s Mike Stevens\, you can expect a night full of trivia and fun! \nGrab your friends\, family\, and colleagues to make your team of six and compete. Prizes: 1st £30 Printroom Voucher 2nd £10 Printroom Voucher £1 entry per person
URL:https://virtual-lancaster.net/event/storey-quiz-night/2026-11-04/
LOCATION:The Storey\, Meeting House Lane\, Lancaster\, Lancashire\, LA1 1TH\, United Kingdom
ATTACH;FMTTYPE=image/jpeg:https://virtual-lancaster.net/wp-content/uploads/2012/10/storey-arts-09-10-12.jpg
END:VEVENT
BEGIN:VEVENT
DTSTART;TZID=Europe/London:20261028T190000
DTEND;TZID=Europe/London:20261028T220000
DTSTAMP:20260425T165812
CREATED:20260424T143715Z
LAST-MODIFIED:20260424T143947Z
UID:10000029-1793214000-1793224800@virtual-lancaster.net
SUMMARY:Event: Storey Quiz Night
DESCRIPTION:Join in every Wednesday from 7-10pm for the Storey Quiz Night! Hosted by BBC Radio Lancashire’s Mike Stevens\, you can expect a night full of trivia and fun! \nGrab your friends\, family\, and colleagues to make your team of six and compete. Prizes: 1st £30 Printroom Voucher 2nd £10 Printroom Voucher £1 entry per person
URL:https://virtual-lancaster.net/event/storey-quiz-night/2026-10-28/
LOCATION:The Storey\, Meeting House Lane\, Lancaster\, Lancashire\, LA1 1TH\, United Kingdom
ATTACH;FMTTYPE=image/jpeg:https://virtual-lancaster.net/wp-content/uploads/2012/10/storey-arts-09-10-12.jpg
END:VEVENT
BEGIN:VEVENT
DTSTART;TZID=Europe/London:20261021T190000
DTEND;TZID=Europe/London:20261021T220000
DTSTAMP:20260425T165812
CREATED:20260424T143715Z
LAST-MODIFIED:20260424T143947Z
UID:10000028-1792609200-1792620000@virtual-lancaster.net
SUMMARY:Event: Storey Quiz Night
DESCRIPTION:Join in every Wednesday from 7-10pm for the Storey Quiz Night! Hosted by BBC Radio Lancashire’s Mike Stevens\, you can expect a night full of trivia and fun! \nGrab your friends\, family\, and colleagues to make your team of six and compete. Prizes: 1st £30 Printroom Voucher 2nd £10 Printroom Voucher £1 entry per person
URL:https://virtual-lancaster.net/event/storey-quiz-night/2026-10-21/
LOCATION:The Storey\, Meeting House Lane\, Lancaster\, Lancashire\, LA1 1TH\, United Kingdom
ATTACH;FMTTYPE=image/jpeg:https://virtual-lancaster.net/wp-content/uploads/2012/10/storey-arts-09-10-12.jpg
END:VEVENT
BEGIN:VEVENT
DTSTART;TZID=Europe/London:20261014T190000
DTEND;TZID=Europe/London:20261014T220000
DTSTAMP:20260425T165812
CREATED:20260424T143715Z
LAST-MODIFIED:20260424T143947Z
UID:10000027-1792004400-1792015200@virtual-lancaster.net
SUMMARY:Event: Storey Quiz Night
DESCRIPTION:Join in every Wednesday from 7-10pm for the Storey Quiz Night! Hosted by BBC Radio Lancashire’s Mike Stevens\, you can expect a night full of trivia and fun! \nGrab your friends\, family\, and colleagues to make your team of six and compete. Prizes: 1st £30 Printroom Voucher 2nd £10 Printroom Voucher £1 entry per person
URL:https://virtual-lancaster.net/event/storey-quiz-night/2026-10-14/
LOCATION:The Storey\, Meeting House Lane\, Lancaster\, Lancashire\, LA1 1TH\, United Kingdom
ATTACH;FMTTYPE=image/jpeg:https://virtual-lancaster.net/wp-content/uploads/2012/10/storey-arts-09-10-12.jpg
END:VEVENT
BEGIN:VEVENT
DTSTART;TZID=Europe/London:20261007T190000
DTEND;TZID=Europe/London:20261007T220000
DTSTAMP:20260425T165812
CREATED:20260424T143715Z
LAST-MODIFIED:20260424T143947Z
UID:10000026-1791399600-1791410400@virtual-lancaster.net
SUMMARY:Event: Storey Quiz Night
DESCRIPTION:Join in every Wednesday from 7-10pm for the Storey Quiz Night! Hosted by BBC Radio Lancashire’s Mike Stevens\, you can expect a night full of trivia and fun! \nGrab your friends\, family\, and colleagues to make your team of six and compete. Prizes: 1st £30 Printroom Voucher 2nd £10 Printroom Voucher £1 entry per person
URL:https://virtual-lancaster.net/event/storey-quiz-night/2026-10-07/
LOCATION:The Storey\, Meeting House Lane\, Lancaster\, Lancashire\, LA1 1TH\, United Kingdom
ATTACH;FMTTYPE=image/jpeg:https://virtual-lancaster.net/wp-content/uploads/2012/10/storey-arts-09-10-12.jpg
END:VEVENT
BEGIN:VEVENT
DTSTART;TZID=Europe/London:20260930T190000
DTEND;TZID=Europe/London:20260930T220000
DTSTAMP:20260425T165812
CREATED:20260424T143715Z
LAST-MODIFIED:20260424T143947Z
UID:10000025-1790794800-1790805600@virtual-lancaster.net
SUMMARY:Event: Storey Quiz Night
DESCRIPTION:Join in every Wednesday from 7-10pm for the Storey Quiz Night! Hosted by BBC Radio Lancashire’s Mike Stevens\, you can expect a night full of trivia and fun! \nGrab your friends\, family\, and colleagues to make your team of six and compete. Prizes: 1st £30 Printroom Voucher 2nd £10 Printroom Voucher £1 entry per person
URL:https://virtual-lancaster.net/event/storey-quiz-night/2026-09-30/
LOCATION:The Storey\, Meeting House Lane\, Lancaster\, Lancashire\, LA1 1TH\, United Kingdom
ATTACH;FMTTYPE=image/jpeg:https://virtual-lancaster.net/wp-content/uploads/2012/10/storey-arts-09-10-12.jpg
END:VEVENT
BEGIN:VEVENT
DTSTART;TZID=Europe/London:20260923T190000
DTEND;TZID=Europe/London:20260923T220000
DTSTAMP:20260425T165812
CREATED:20260424T143715Z
LAST-MODIFIED:20260424T143947Z
UID:10000024-1790190000-1790200800@virtual-lancaster.net
SUMMARY:Event: Storey Quiz Night
DESCRIPTION:Join in every Wednesday from 7-10pm for the Storey Quiz Night! Hosted by BBC Radio Lancashire’s Mike Stevens\, you can expect a night full of trivia and fun! \nGrab your friends\, family\, and colleagues to make your team of six and compete. Prizes: 1st £30 Printroom Voucher 2nd £10 Printroom Voucher £1 entry per person
URL:https://virtual-lancaster.net/event/storey-quiz-night/2026-09-23/
LOCATION:The Storey\, Meeting House Lane\, Lancaster\, Lancashire\, LA1 1TH\, United Kingdom
ATTACH;FMTTYPE=image/jpeg:https://virtual-lancaster.net/wp-content/uploads/2012/10/storey-arts-09-10-12.jpg
END:VEVENT
BEGIN:VEVENT
DTSTART;TZID=Europe/London:20260916T190000
DTEND;TZID=Europe/London:20260916T220000
DTSTAMP:20260425T165812
CREATED:20260424T143715Z
LAST-MODIFIED:20260424T143947Z
UID:10000023-1789585200-1789596000@virtual-lancaster.net
SUMMARY:Event: Storey Quiz Night
DESCRIPTION:Join in every Wednesday from 7-10pm for the Storey Quiz Night! Hosted by BBC Radio Lancashire’s Mike Stevens\, you can expect a night full of trivia and fun! \nGrab your friends\, family\, and colleagues to make your team of six and compete. Prizes: 1st £30 Printroom Voucher 2nd £10 Printroom Voucher £1 entry per person
URL:https://virtual-lancaster.net/event/storey-quiz-night/2026-09-16/
LOCATION:The Storey\, Meeting House Lane\, Lancaster\, Lancashire\, LA1 1TH\, United Kingdom
ATTACH;FMTTYPE=image/jpeg:https://virtual-lancaster.net/wp-content/uploads/2012/10/storey-arts-09-10-12.jpg
END:VEVENT
BEGIN:VEVENT
DTSTART;TZID=Europe/London:20260909T190000
DTEND;TZID=Europe/London:20260909T220000
DTSTAMP:20260425T165812
CREATED:20260424T143715Z
LAST-MODIFIED:20260424T143947Z
UID:10000022-1788980400-1788991200@virtual-lancaster.net
SUMMARY:Event: Storey Quiz Night
DESCRIPTION:Join in every Wednesday from 7-10pm for the Storey Quiz Night! Hosted by BBC Radio Lancashire’s Mike Stevens\, you can expect a night full of trivia and fun! \nGrab your friends\, family\, and colleagues to make your team of six and compete. Prizes: 1st £30 Printroom Voucher 2nd £10 Printroom Voucher £1 entry per person
URL:https://virtual-lancaster.net/event/storey-quiz-night/2026-09-09/
LOCATION:The Storey\, Meeting House Lane\, Lancaster\, Lancashire\, LA1 1TH\, United Kingdom
ATTACH;FMTTYPE=image/jpeg:https://virtual-lancaster.net/wp-content/uploads/2012/10/storey-arts-09-10-12.jpg
END:VEVENT
BEGIN:VEVENT
DTSTART;TZID=Europe/London:20260902T190000
DTEND;TZID=Europe/London:20260902T220000
DTSTAMP:20260425T165812
CREATED:20260424T143715Z
LAST-MODIFIED:20260424T143947Z
UID:10000021-1788375600-1788386400@virtual-lancaster.net
SUMMARY:Event: Storey Quiz Night
DESCRIPTION:Join in every Wednesday from 7-10pm for the Storey Quiz Night! Hosted by BBC Radio Lancashire’s Mike Stevens\, you can expect a night full of trivia and fun! \nGrab your friends\, family\, and colleagues to make your team of six and compete. Prizes: 1st £30 Printroom Voucher 2nd £10 Printroom Voucher £1 entry per person
URL:https://virtual-lancaster.net/event/storey-quiz-night/2026-09-02/
LOCATION:The Storey\, Meeting House Lane\, Lancaster\, Lancashire\, LA1 1TH\, United Kingdom
ATTACH;FMTTYPE=image/jpeg:https://virtual-lancaster.net/wp-content/uploads/2012/10/storey-arts-09-10-12.jpg
END:VEVENT
BEGIN:VEVENT
DTSTART;TZID=Europe/London:20260826T190000
DTEND;TZID=Europe/London:20260826T220000
DTSTAMP:20260425T165812
CREATED:20260424T143715Z
LAST-MODIFIED:20260424T143947Z
UID:10000020-1787770800-1787781600@virtual-lancaster.net
SUMMARY:Event: Storey Quiz Night
DESCRIPTION:Join in every Wednesday from 7-10pm for the Storey Quiz Night! Hosted by BBC Radio Lancashire’s Mike Stevens\, you can expect a night full of trivia and fun! \nGrab your friends\, family\, and colleagues to make your team of six and compete. Prizes: 1st £30 Printroom Voucher 2nd £10 Printroom Voucher £1 entry per person
URL:https://virtual-lancaster.net/event/storey-quiz-night/2026-08-26/
LOCATION:The Storey\, Meeting House Lane\, Lancaster\, Lancashire\, LA1 1TH\, United Kingdom
ATTACH;FMTTYPE=image/jpeg:https://virtual-lancaster.net/wp-content/uploads/2012/10/storey-arts-09-10-12.jpg
END:VEVENT
BEGIN:VEVENT
DTSTART;TZID=Europe/London:20260819T190000
DTEND;TZID=Europe/London:20260819T220000
DTSTAMP:20260425T165812
CREATED:20260424T143715Z
LAST-MODIFIED:20260424T143947Z
UID:10000019-1787166000-1787176800@virtual-lancaster.net
SUMMARY:Event: Storey Quiz Night
DESCRIPTION:Join in every Wednesday from 7-10pm for the Storey Quiz Night! Hosted by BBC Radio Lancashire’s Mike Stevens\, you can expect a night full of trivia and fun! \nGrab your friends\, family\, and colleagues to make your team of six and compete. Prizes: 1st £30 Printroom Voucher 2nd £10 Printroom Voucher £1 entry per person
URL:https://virtual-lancaster.net/event/storey-quiz-night/2026-08-19/
LOCATION:The Storey\, Meeting House Lane\, Lancaster\, Lancashire\, LA1 1TH\, United Kingdom
ATTACH;FMTTYPE=image/jpeg:https://virtual-lancaster.net/wp-content/uploads/2012/10/storey-arts-09-10-12.jpg
END:VEVENT
BEGIN:VEVENT
DTSTART;TZID=Europe/London:20260812T190000
DTEND;TZID=Europe/London:20260812T220000
DTSTAMP:20260425T165812
CREATED:20260424T143715Z
LAST-MODIFIED:20260424T143947Z
UID:10000018-1786561200-1786572000@virtual-lancaster.net
SUMMARY:Event: Storey Quiz Night
DESCRIPTION:Join in every Wednesday from 7-10pm for the Storey Quiz Night! Hosted by BBC Radio Lancashire’s Mike Stevens\, you can expect a night full of trivia and fun! \nGrab your friends\, family\, and colleagues to make your team of six and compete. Prizes: 1st £30 Printroom Voucher 2nd £10 Printroom Voucher £1 entry per person
URL:https://virtual-lancaster.net/event/storey-quiz-night/2026-08-12/
LOCATION:The Storey\, Meeting House Lane\, Lancaster\, Lancashire\, LA1 1TH\, United Kingdom
ATTACH;FMTTYPE=image/jpeg:https://virtual-lancaster.net/wp-content/uploads/2012/10/storey-arts-09-10-12.jpg
END:VEVENT
BEGIN:VEVENT
DTSTART;TZID=Europe/London:20260805T190000
DTEND;TZID=Europe/London:20260805T220000
DTSTAMP:20260425T165812
CREATED:20260424T143715Z
LAST-MODIFIED:20260424T143947Z
UID:10000017-1785956400-1785967200@virtual-lancaster.net
SUMMARY:Event: Storey Quiz Night
DESCRIPTION:Join in every Wednesday from 7-10pm for the Storey Quiz Night! Hosted by BBC Radio Lancashire’s Mike Stevens\, you can expect a night full of trivia and fun! \nGrab your friends\, family\, and colleagues to make your team of six and compete. Prizes: 1st £30 Printroom Voucher 2nd £10 Printroom Voucher £1 entry per person
URL:https://virtual-lancaster.net/event/storey-quiz-night/2026-08-05/
LOCATION:The Storey\, Meeting House Lane\, Lancaster\, Lancashire\, LA1 1TH\, United Kingdom
ATTACH;FMTTYPE=image/jpeg:https://virtual-lancaster.net/wp-content/uploads/2012/10/storey-arts-09-10-12.jpg
END:VEVENT
BEGIN:VEVENT
DTSTART;TZID=Europe/London:20260729T190000
DTEND;TZID=Europe/London:20260729T220000
DTSTAMP:20260425T165812
CREATED:20260424T143715Z
LAST-MODIFIED:20260424T143947Z
UID:10000016-1785351600-1785362400@virtual-lancaster.net
SUMMARY:Event: Storey Quiz Night
DESCRIPTION:Join in every Wednesday from 7-10pm for the Storey Quiz Night! Hosted by BBC Radio Lancashire’s Mike Stevens\, you can expect a night full of trivia and fun! \nGrab your friends\, family\, and colleagues to make your team of six and compete. Prizes: 1st £30 Printroom Voucher 2nd £10 Printroom Voucher £1 entry per person
URL:https://virtual-lancaster.net/event/storey-quiz-night/2026-07-29/
LOCATION:The Storey\, Meeting House Lane\, Lancaster\, Lancashire\, LA1 1TH\, United Kingdom
ATTACH;FMTTYPE=image/jpeg:https://virtual-lancaster.net/wp-content/uploads/2012/10/storey-arts-09-10-12.jpg
END:VEVENT
BEGIN:VEVENT
DTSTART;TZID=Europe/London:20260722T190000
DTEND;TZID=Europe/London:20260722T220000
DTSTAMP:20260425T165812
CREATED:20260424T143715Z
LAST-MODIFIED:20260424T143947Z
UID:10000015-1784746800-1784757600@virtual-lancaster.net
SUMMARY:Event: Storey Quiz Night
DESCRIPTION:Join in every Wednesday from 7-10pm for the Storey Quiz Night! Hosted by BBC Radio Lancashire’s Mike Stevens\, you can expect a night full of trivia and fun! \nGrab your friends\, family\, and colleagues to make your team of six and compete. Prizes: 1st £30 Printroom Voucher 2nd £10 Printroom Voucher £1 entry per person
URL:https://virtual-lancaster.net/event/storey-quiz-night/2026-07-22/
LOCATION:The Storey\, Meeting House Lane\, Lancaster\, Lancashire\, LA1 1TH\, United Kingdom
ATTACH;FMTTYPE=image/jpeg:https://virtual-lancaster.net/wp-content/uploads/2012/10/storey-arts-09-10-12.jpg
END:VEVENT
BEGIN:VEVENT
DTSTART;TZID=Europe/London:20260715T190000
DTEND;TZID=Europe/London:20260715T220000
DTSTAMP:20260425T165812
CREATED:20260424T143715Z
LAST-MODIFIED:20260424T143947Z
UID:10000014-1784142000-1784152800@virtual-lancaster.net
SUMMARY:Event: Storey Quiz Night
DESCRIPTION:Join in every Wednesday from 7-10pm for the Storey Quiz Night! Hosted by BBC Radio Lancashire’s Mike Stevens\, you can expect a night full of trivia and fun! \nGrab your friends\, family\, and colleagues to make your team of six and compete. Prizes: 1st £30 Printroom Voucher 2nd £10 Printroom Voucher £1 entry per person
URL:https://virtual-lancaster.net/event/storey-quiz-night/2026-07-15/
LOCATION:The Storey\, Meeting House Lane\, Lancaster\, Lancashire\, LA1 1TH\, United Kingdom
ATTACH;FMTTYPE=image/jpeg:https://virtual-lancaster.net/wp-content/uploads/2012/10/storey-arts-09-10-12.jpg
END:VEVENT
BEGIN:VEVENT
DTSTART;TZID=Europe/London:20260708T190000
DTEND;TZID=Europe/London:20260708T220000
DTSTAMP:20260425T165812
CREATED:20260424T143715Z
LAST-MODIFIED:20260424T143947Z
UID:10000013-1783537200-1783548000@virtual-lancaster.net
SUMMARY:Event: Storey Quiz Night
DESCRIPTION:Join in every Wednesday from 7-10pm for the Storey Quiz Night! Hosted by BBC Radio Lancashire’s Mike Stevens\, you can expect a night full of trivia and fun! \nGrab your friends\, family\, and colleagues to make your team of six and compete. Prizes: 1st £30 Printroom Voucher 2nd £10 Printroom Voucher £1 entry per person
URL:https://virtual-lancaster.net/event/storey-quiz-night/2026-07-08/
LOCATION:The Storey\, Meeting House Lane\, Lancaster\, Lancashire\, LA1 1TH\, United Kingdom
ATTACH;FMTTYPE=image/jpeg:https://virtual-lancaster.net/wp-content/uploads/2012/10/storey-arts-09-10-12.jpg
END:VEVENT
BEGIN:VEVENT
DTSTART;TZID=Europe/London:20260701T190000
DTEND;TZID=Europe/London:20260701T220000
DTSTAMP:20260425T165812
CREATED:20260424T143715Z
LAST-MODIFIED:20260424T143947Z
UID:10000012-1782932400-1782943200@virtual-lancaster.net
SUMMARY:Event: Storey Quiz Night
DESCRIPTION:Join in every Wednesday from 7-10pm for the Storey Quiz Night! Hosted by BBC Radio Lancashire’s Mike Stevens\, you can expect a night full of trivia and fun! \nGrab your friends\, family\, and colleagues to make your team of six and compete. Prizes: 1st £30 Printroom Voucher 2nd £10 Printroom Voucher £1 entry per person
URL:https://virtual-lancaster.net/event/storey-quiz-night/2026-07-01/
LOCATION:The Storey\, Meeting House Lane\, Lancaster\, Lancashire\, LA1 1TH\, United Kingdom
ATTACH;FMTTYPE=image/jpeg:https://virtual-lancaster.net/wp-content/uploads/2012/10/storey-arts-09-10-12.jpg
END:VEVENT
BEGIN:VEVENT
DTSTART;TZID=Europe/London:20260624T190000
DTEND;TZID=Europe/London:20260624T220000
DTSTAMP:20260425T165812
CREATED:20260424T143715Z
LAST-MODIFIED:20260424T143947Z
UID:10000011-1782327600-1782338400@virtual-lancaster.net
SUMMARY:Event: Storey Quiz Night
DESCRIPTION:Join in every Wednesday from 7-10pm for the Storey Quiz Night! Hosted by BBC Radio Lancashire’s Mike Stevens\, you can expect a night full of trivia and fun! \nGrab your friends\, family\, and colleagues to make your team of six and compete. Prizes: 1st £30 Printroom Voucher 2nd £10 Printroom Voucher £1 entry per person
URL:https://virtual-lancaster.net/event/storey-quiz-night/2026-06-24/
LOCATION:The Storey\, Meeting House Lane\, Lancaster\, Lancashire\, LA1 1TH\, United Kingdom
ATTACH;FMTTYPE=image/jpeg:https://virtual-lancaster.net/wp-content/uploads/2012/10/storey-arts-09-10-12.jpg
END:VEVENT
BEGIN:VEVENT
DTSTART;TZID=Europe/London:20260617T190000
DTEND;TZID=Europe/London:20260617T220000
DTSTAMP:20260425T165812
CREATED:20260424T143715Z
LAST-MODIFIED:20260424T143947Z
UID:10000010-1781722800-1781733600@virtual-lancaster.net
SUMMARY:Event: Storey Quiz Night
DESCRIPTION:Join in every Wednesday from 7-10pm for the Storey Quiz Night! Hosted by BBC Radio Lancashire’s Mike Stevens\, you can expect a night full of trivia and fun! \nGrab your friends\, family\, and colleagues to make your team of six and compete. Prizes: 1st £30 Printroom Voucher 2nd £10 Printroom Voucher £1 entry per person
URL:https://virtual-lancaster.net/event/storey-quiz-night/2026-06-17/
LOCATION:The Storey\, Meeting House Lane\, Lancaster\, Lancashire\, LA1 1TH\, United Kingdom
ATTACH;FMTTYPE=image/jpeg:https://virtual-lancaster.net/wp-content/uploads/2012/10/storey-arts-09-10-12.jpg
END:VEVENT
BEGIN:VEVENT
DTSTART;TZID=Europe/London:20260610T190000
DTEND;TZID=Europe/London:20260610T220000
DTSTAMP:20260425T165812
CREATED:20260424T143715Z
LAST-MODIFIED:20260424T143947Z
UID:10000009-1781118000-1781128800@virtual-lancaster.net
SUMMARY:Event: Storey Quiz Night
DESCRIPTION:Join in every Wednesday from 7-10pm for the Storey Quiz Night! Hosted by BBC Radio Lancashire’s Mike Stevens\, you can expect a night full of trivia and fun! \nGrab your friends\, family\, and colleagues to make your team of six and compete. Prizes: 1st £30 Printroom Voucher 2nd £10 Printroom Voucher £1 entry per person
URL:https://virtual-lancaster.net/event/storey-quiz-night/2026-06-10/
LOCATION:The Storey\, Meeting House Lane\, Lancaster\, Lancashire\, LA1 1TH\, United Kingdom
ATTACH;FMTTYPE=image/jpeg:https://virtual-lancaster.net/wp-content/uploads/2012/10/storey-arts-09-10-12.jpg
END:VEVENT
BEGIN:VEVENT
DTSTART;TZID=Europe/London:20260603T190000
DTEND;TZID=Europe/London:20260603T220000
DTSTAMP:20260425T165812
CREATED:20260424T143715Z
LAST-MODIFIED:20260424T143947Z
UID:10000008-1780513200-1780524000@virtual-lancaster.net
SUMMARY:Event: Storey Quiz Night
DESCRIPTION:Join in every Wednesday from 7-10pm for the Storey Quiz Night! Hosted by BBC Radio Lancashire’s Mike Stevens\, you can expect a night full of trivia and fun! \nGrab your friends\, family\, and colleagues to make your team of six and compete. Prizes: 1st £30 Printroom Voucher 2nd £10 Printroom Voucher £1 entry per person
URL:https://virtual-lancaster.net/event/storey-quiz-night/2026-06-03/
LOCATION:The Storey\, Meeting House Lane\, Lancaster\, Lancashire\, LA1 1TH\, United Kingdom
ATTACH;FMTTYPE=image/jpeg:https://virtual-lancaster.net/wp-content/uploads/2012/10/storey-arts-09-10-12.jpg
END:VEVENT
BEGIN:VEVENT
DTSTART;TZID=Europe/London:20260527T190000
DTEND;TZID=Europe/London:20260527T220000
DTSTAMP:20260425T165812
CREATED:20260424T143715Z
LAST-MODIFIED:20260424T143947Z
UID:10000007-1779908400-1779919200@virtual-lancaster.net
SUMMARY:Event: Storey Quiz Night
DESCRIPTION:Join in every Wednesday from 7-10pm for the Storey Quiz Night! Hosted by BBC Radio Lancashire’s Mike Stevens\, you can expect a night full of trivia and fun! \nGrab your friends\, family\, and colleagues to make your team of six and compete. Prizes: 1st £30 Printroom Voucher 2nd £10 Printroom Voucher £1 entry per person
URL:https://virtual-lancaster.net/event/storey-quiz-night/2026-05-27/
LOCATION:The Storey\, Meeting House Lane\, Lancaster\, Lancashire\, LA1 1TH\, United Kingdom
ATTACH;FMTTYPE=image/jpeg:https://virtual-lancaster.net/wp-content/uploads/2012/10/storey-arts-09-10-12.jpg
END:VEVENT
BEGIN:VEVENT
DTSTART;TZID=Europe/London:20260520T190000
DTEND;TZID=Europe/London:20260520T220000
DTSTAMP:20260425T165812
CREATED:20260424T143715Z
LAST-MODIFIED:20260424T143947Z
UID:10000006-1779303600-1779314400@virtual-lancaster.net
SUMMARY:Event: Storey Quiz Night
DESCRIPTION:Join in every Wednesday from 7-10pm for the Storey Quiz Night! Hosted by BBC Radio Lancashire’s Mike Stevens\, you can expect a night full of trivia and fun! \nGrab your friends\, family\, and colleagues to make your team of six and compete. Prizes: 1st £30 Printroom Voucher 2nd £10 Printroom Voucher £1 entry per person
URL:https://virtual-lancaster.net/event/storey-quiz-night/2026-05-20/
LOCATION:The Storey\, Meeting House Lane\, Lancaster\, Lancashire\, LA1 1TH\, United Kingdom
ATTACH;FMTTYPE=image/jpeg:https://virtual-lancaster.net/wp-content/uploads/2012/10/storey-arts-09-10-12.jpg
END:VEVENT
BEGIN:VEVENT
DTSTART;TZID=Europe/London:20260513T190000
DTEND;TZID=Europe/London:20260513T220000
DTSTAMP:20260425T165812
CREATED:20260424T143715Z
LAST-MODIFIED:20260424T143947Z
UID:10000005-1778698800-1778709600@virtual-lancaster.net
SUMMARY:Event: Storey Quiz Night
DESCRIPTION:Join in every Wednesday from 7-10pm for the Storey Quiz Night! Hosted by BBC Radio Lancashire’s Mike Stevens\, you can expect a night full of trivia and fun! \nGrab your friends\, family\, and colleagues to make your team of six and compete. Prizes: 1st £30 Printroom Voucher 2nd £10 Printroom Voucher £1 entry per person
URL:https://virtual-lancaster.net/event/storey-quiz-night/2026-05-13/
LOCATION:The Storey\, Meeting House Lane\, Lancaster\, Lancashire\, LA1 1TH\, United Kingdom
ATTACH;FMTTYPE=image/jpeg:https://virtual-lancaster.net/wp-content/uploads/2012/10/storey-arts-09-10-12.jpg
END:VEVENT
BEGIN:VEVENT
DTSTART;TZID=Europe/London:20260511T110000
DTEND;TZID=Europe/London:20260516T170000
DTSTAMP:20260425T165812
CREATED:20260424T140321Z
LAST-MODIFIED:20260424T143914Z
UID:10000002-1778497200-1778950800@virtual-lancaster.net
SUMMARY:Event: King Street Arts: Experience – Festival of Art
DESCRIPTION:King Street Arts are hosting a festival of creativity at The Storey\, Lancaster from 11-16th May 2026. \nThe exhibition will feature the work of over 35 King Street Associate local artists\, everything from painting\, printmaking\, sculpture\, ceramics\, weaving and more for you to view in the beautiful Storey main gallery. \n“Watch out for workshops and events\, too\,” they say\, “so that you can explore your own creative experience guided by local artists in this exhibition\, and check out the creative impulses of artists exhibiting in this show. Feel the power of creativity in your life!” \nArtists whose work will feature include Bob Armitage\, Alice Evans\, Beverley French\, Barbara Holt\, Ceris Jones\, Claire Crawford\, and Ann Kretzschmar. \nKing Street Arts focus is on the visual arts\, and seeks to support artists and the public by creating activities\, workshops and exhibitions to encourage engagement\, stretch boundaries and look for new horizons. \n• King Street Arts is online at kingstreetstudios.art | Facebook | Instagram
URL:https://virtual-lancaster.net/event/king-street-arts-experience-festival-of-art/
LOCATION:The Storey\, Meeting House Lane\, Lancaster\, Lancashire\, LA1 1TH\, United Kingdom
CATEGORIES:Exhibition
ATTACH;FMTTYPE=image/jpeg:https://virtual-lancaster.net/wp-content/uploads/2026/04/IMG_9542.jpeg
END:VEVENT
END:VCALENDAR