BEGIN:VCALENDAR
VERSION:2.0
PRODID:-//Virtual Lancaster - ECPv6.15.20//NONSGML v1.0//EN
CALSCALE:GREGORIAN
METHOD:PUBLISH
X-ORIGINAL-URL:https://virtual-lancaster.net
X-WR-CALDESC:Events for Virtual Lancaster
REFRESH-INTERVAL;VALUE=DURATION:PT1H
X-Robots-Tag:noindex
X-PUBLISHED-TTL:PT1H
BEGIN:VTIMEZONE
TZID:Europe/London
BEGIN:DAYLIGHT
TZOFFSETFROM:+0000
TZOFFSETTO:+0100
TZNAME:BST
DTSTART:20260329T010000
END:DAYLIGHT
BEGIN:STANDARD
TZOFFSETFROM:+0100
TZOFFSETTO:+0000
TZNAME:GMT
DTSTART:20261025T010000
END:STANDARD
BEGIN:DAYLIGHT
TZOFFSETFROM:+0000
TZOFFSETTO:+0100
TZNAME:BST
DTSTART:20270328T010000
END:DAYLIGHT
BEGIN:STANDARD
TZOFFSETFROM:+0100
TZOFFSETTO:+0000
TZNAME:GMT
DTSTART:20271031T010000
END:STANDARD
BEGIN:DAYLIGHT
TZOFFSETFROM:+0000
TZOFFSETTO:+0100
TZNAME:BST
DTSTART:20280326T010000
END:DAYLIGHT
BEGIN:STANDARD
TZOFFSETFROM:+0100
TZOFFSETTO:+0000
TZNAME:GMT
DTSTART:20281029T010000
END:STANDARD
BEGIN:DAYLIGHT
TZOFFSETFROM:+0000
TZOFFSETTO:+0100
TZNAME:BST
DTSTART:20290325T010000
END:DAYLIGHT
BEGIN:STANDARD
TZOFFSETFROM:+0100
TZOFFSETTO:+0000
TZNAME:GMT
DTSTART:20291028T010000
END:STANDARD
END:VTIMEZONE
BEGIN:VEVENT
DTSTART;TZID=Europe/London:20270630T190000
DTEND;TZID=Europe/London:20270630T220000
DTSTAMP:20260425T164607
CREATED:20260424T143715Z
LAST-MODIFIED:20260424T143947Z
UID:10000064-1814382000-1814392800@virtual-lancaster.net
SUMMARY:Event: Storey Quiz Night
DESCRIPTION:Join in every Wednesday from 7-10pm for the Storey Quiz Night! Hosted by BBC Radio Lancashire’s Mike Stevens\, you can expect a night full of trivia and fun! \nGrab your friends\, family\, and colleagues to make your team of six and compete. Prizes: 1st £30 Printroom Voucher 2nd £10 Printroom Voucher £1 entry per person
URL:https://virtual-lancaster.net/event/storey-quiz-night/2027-06-30/
LOCATION:The Storey\, Meeting House Lane\, Lancaster\, Lancashire\, LA1 1TH\, United Kingdom
ATTACH;FMTTYPE=image/jpeg:https://virtual-lancaster.net/wp-content/uploads/2012/10/storey-arts-09-10-12.jpg
END:VEVENT
BEGIN:VEVENT
DTSTART;TZID=Europe/London:20270707T190000
DTEND;TZID=Europe/London:20270707T220000
DTSTAMP:20260425T164607
CREATED:20260424T143715Z
LAST-MODIFIED:20260424T143947Z
UID:10000065-1814986800-1814997600@virtual-lancaster.net
SUMMARY:Event: Storey Quiz Night
DESCRIPTION:Join in every Wednesday from 7-10pm for the Storey Quiz Night! Hosted by BBC Radio Lancashire’s Mike Stevens\, you can expect a night full of trivia and fun! \nGrab your friends\, family\, and colleagues to make your team of six and compete. Prizes: 1st £30 Printroom Voucher 2nd £10 Printroom Voucher £1 entry per person
URL:https://virtual-lancaster.net/event/storey-quiz-night/2027-07-07/
LOCATION:The Storey\, Meeting House Lane\, Lancaster\, Lancashire\, LA1 1TH\, United Kingdom
ATTACH;FMTTYPE=image/jpeg:https://virtual-lancaster.net/wp-content/uploads/2012/10/storey-arts-09-10-12.jpg
END:VEVENT
BEGIN:VEVENT
DTSTART;TZID=Europe/London:20270714T190000
DTEND;TZID=Europe/London:20270714T220000
DTSTAMP:20260425T164607
CREATED:20260424T143715Z
LAST-MODIFIED:20260424T143947Z
UID:10000066-1815591600-1815602400@virtual-lancaster.net
SUMMARY:Event: Storey Quiz Night
DESCRIPTION:Join in every Wednesday from 7-10pm for the Storey Quiz Night! Hosted by BBC Radio Lancashire’s Mike Stevens\, you can expect a night full of trivia and fun! \nGrab your friends\, family\, and colleagues to make your team of six and compete. Prizes: 1st £30 Printroom Voucher 2nd £10 Printroom Voucher £1 entry per person
URL:https://virtual-lancaster.net/event/storey-quiz-night/2027-07-14/
LOCATION:The Storey\, Meeting House Lane\, Lancaster\, Lancashire\, LA1 1TH\, United Kingdom
ATTACH;FMTTYPE=image/jpeg:https://virtual-lancaster.net/wp-content/uploads/2012/10/storey-arts-09-10-12.jpg
END:VEVENT
BEGIN:VEVENT
DTSTART;TZID=Europe/London:20270721T190000
DTEND;TZID=Europe/London:20270721T220000
DTSTAMP:20260425T164607
CREATED:20260424T143715Z
LAST-MODIFIED:20260424T143947Z
UID:10000067-1816196400-1816207200@virtual-lancaster.net
SUMMARY:Event: Storey Quiz Night
DESCRIPTION:Join in every Wednesday from 7-10pm for the Storey Quiz Night! Hosted by BBC Radio Lancashire’s Mike Stevens\, you can expect a night full of trivia and fun! \nGrab your friends\, family\, and colleagues to make your team of six and compete. Prizes: 1st £30 Printroom Voucher 2nd £10 Printroom Voucher £1 entry per person
URL:https://virtual-lancaster.net/event/storey-quiz-night/2027-07-21/
LOCATION:The Storey\, Meeting House Lane\, Lancaster\, Lancashire\, LA1 1TH\, United Kingdom
ATTACH;FMTTYPE=image/jpeg:https://virtual-lancaster.net/wp-content/uploads/2012/10/storey-arts-09-10-12.jpg
END:VEVENT
BEGIN:VEVENT
DTSTART;TZID=Europe/London:20270728T190000
DTEND;TZID=Europe/London:20270728T220000
DTSTAMP:20260425T164607
CREATED:20260424T143715Z
LAST-MODIFIED:20260424T143947Z
UID:10000068-1816801200-1816812000@virtual-lancaster.net
SUMMARY:Event: Storey Quiz Night
DESCRIPTION:Join in every Wednesday from 7-10pm for the Storey Quiz Night! Hosted by BBC Radio Lancashire’s Mike Stevens\, you can expect a night full of trivia and fun! \nGrab your friends\, family\, and colleagues to make your team of six and compete. Prizes: 1st £30 Printroom Voucher 2nd £10 Printroom Voucher £1 entry per person
URL:https://virtual-lancaster.net/event/storey-quiz-night/2027-07-28/
LOCATION:The Storey\, Meeting House Lane\, Lancaster\, Lancashire\, LA1 1TH\, United Kingdom
ATTACH;FMTTYPE=image/jpeg:https://virtual-lancaster.net/wp-content/uploads/2012/10/storey-arts-09-10-12.jpg
END:VEVENT
BEGIN:VEVENT
DTSTART;TZID=Europe/London:20270804T190000
DTEND;TZID=Europe/London:20270804T220000
DTSTAMP:20260425T164607
CREATED:20260424T143715Z
LAST-MODIFIED:20260424T143947Z
UID:10000069-1817406000-1817416800@virtual-lancaster.net
SUMMARY:Event: Storey Quiz Night
DESCRIPTION:Join in every Wednesday from 7-10pm for the Storey Quiz Night! Hosted by BBC Radio Lancashire’s Mike Stevens\, you can expect a night full of trivia and fun! \nGrab your friends\, family\, and colleagues to make your team of six and compete. Prizes: 1st £30 Printroom Voucher 2nd £10 Printroom Voucher £1 entry per person
URL:https://virtual-lancaster.net/event/storey-quiz-night/2027-08-04/
LOCATION:The Storey\, Meeting House Lane\, Lancaster\, Lancashire\, LA1 1TH\, United Kingdom
ATTACH;FMTTYPE=image/jpeg:https://virtual-lancaster.net/wp-content/uploads/2012/10/storey-arts-09-10-12.jpg
END:VEVENT
BEGIN:VEVENT
DTSTART;TZID=Europe/London:20270811T190000
DTEND;TZID=Europe/London:20270811T220000
DTSTAMP:20260425T164607
CREATED:20260424T143715Z
LAST-MODIFIED:20260424T143947Z
UID:10000070-1818010800-1818021600@virtual-lancaster.net
SUMMARY:Event: Storey Quiz Night
DESCRIPTION:Join in every Wednesday from 7-10pm for the Storey Quiz Night! Hosted by BBC Radio Lancashire’s Mike Stevens\, you can expect a night full of trivia and fun! \nGrab your friends\, family\, and colleagues to make your team of six and compete. Prizes: 1st £30 Printroom Voucher 2nd £10 Printroom Voucher £1 entry per person
URL:https://virtual-lancaster.net/event/storey-quiz-night/2027-08-11/
LOCATION:The Storey\, Meeting House Lane\, Lancaster\, Lancashire\, LA1 1TH\, United Kingdom
ATTACH;FMTTYPE=image/jpeg:https://virtual-lancaster.net/wp-content/uploads/2012/10/storey-arts-09-10-12.jpg
END:VEVENT
BEGIN:VEVENT
DTSTART;TZID=Europe/London:20270818T190000
DTEND;TZID=Europe/London:20270818T220000
DTSTAMP:20260425T164607
CREATED:20260424T143715Z
LAST-MODIFIED:20260424T143947Z
UID:10000071-1818615600-1818626400@virtual-lancaster.net
SUMMARY:Event: Storey Quiz Night
DESCRIPTION:Join in every Wednesday from 7-10pm for the Storey Quiz Night! Hosted by BBC Radio Lancashire’s Mike Stevens\, you can expect a night full of trivia and fun! \nGrab your friends\, family\, and colleagues to make your team of six and compete. Prizes: 1st £30 Printroom Voucher 2nd £10 Printroom Voucher £1 entry per person
URL:https://virtual-lancaster.net/event/storey-quiz-night/2027-08-18/
LOCATION:The Storey\, Meeting House Lane\, Lancaster\, Lancashire\, LA1 1TH\, United Kingdom
ATTACH;FMTTYPE=image/jpeg:https://virtual-lancaster.net/wp-content/uploads/2012/10/storey-arts-09-10-12.jpg
END:VEVENT
BEGIN:VEVENT
DTSTART;TZID=Europe/London:20270825T190000
DTEND;TZID=Europe/London:20270825T220000
DTSTAMP:20260425T164607
CREATED:20260424T143715Z
LAST-MODIFIED:20260424T143947Z
UID:10000072-1819220400-1819231200@virtual-lancaster.net
SUMMARY:Event: Storey Quiz Night
DESCRIPTION:Join in every Wednesday from 7-10pm for the Storey Quiz Night! Hosted by BBC Radio Lancashire’s Mike Stevens\, you can expect a night full of trivia and fun! \nGrab your friends\, family\, and colleagues to make your team of six and compete. Prizes: 1st £30 Printroom Voucher 2nd £10 Printroom Voucher £1 entry per person
URL:https://virtual-lancaster.net/event/storey-quiz-night/2027-08-25/
LOCATION:The Storey\, Meeting House Lane\, Lancaster\, Lancashire\, LA1 1TH\, United Kingdom
ATTACH;FMTTYPE=image/jpeg:https://virtual-lancaster.net/wp-content/uploads/2012/10/storey-arts-09-10-12.jpg
END:VEVENT
BEGIN:VEVENT
DTSTART;TZID=Europe/London:20270901T190000
DTEND;TZID=Europe/London:20270901T220000
DTSTAMP:20260425T164607
CREATED:20260424T143715Z
LAST-MODIFIED:20260424T143947Z
UID:10000073-1819825200-1819836000@virtual-lancaster.net
SUMMARY:Event: Storey Quiz Night
DESCRIPTION:Join in every Wednesday from 7-10pm for the Storey Quiz Night! Hosted by BBC Radio Lancashire’s Mike Stevens\, you can expect a night full of trivia and fun! \nGrab your friends\, family\, and colleagues to make your team of six and compete. Prizes: 1st £30 Printroom Voucher 2nd £10 Printroom Voucher £1 entry per person
URL:https://virtual-lancaster.net/event/storey-quiz-night/2027-09-01/
LOCATION:The Storey\, Meeting House Lane\, Lancaster\, Lancashire\, LA1 1TH\, United Kingdom
ATTACH;FMTTYPE=image/jpeg:https://virtual-lancaster.net/wp-content/uploads/2012/10/storey-arts-09-10-12.jpg
END:VEVENT
BEGIN:VEVENT
DTSTART;TZID=Europe/London:20270908T190000
DTEND;TZID=Europe/London:20270908T220000
DTSTAMP:20260425T164607
CREATED:20260424T143715Z
LAST-MODIFIED:20260424T143947Z
UID:10000074-1820430000-1820440800@virtual-lancaster.net
SUMMARY:Event: Storey Quiz Night
DESCRIPTION:Join in every Wednesday from 7-10pm for the Storey Quiz Night! Hosted by BBC Radio Lancashire’s Mike Stevens\, you can expect a night full of trivia and fun! \nGrab your friends\, family\, and colleagues to make your team of six and compete. Prizes: 1st £30 Printroom Voucher 2nd £10 Printroom Voucher £1 entry per person
URL:https://virtual-lancaster.net/event/storey-quiz-night/2027-09-08/
LOCATION:The Storey\, Meeting House Lane\, Lancaster\, Lancashire\, LA1 1TH\, United Kingdom
ATTACH;FMTTYPE=image/jpeg:https://virtual-lancaster.net/wp-content/uploads/2012/10/storey-arts-09-10-12.jpg
END:VEVENT
BEGIN:VEVENT
DTSTART;TZID=Europe/London:20270915T190000
DTEND;TZID=Europe/London:20270915T220000
DTSTAMP:20260425T164607
CREATED:20260424T143715Z
LAST-MODIFIED:20260424T143947Z
UID:10000075-1821034800-1821045600@virtual-lancaster.net
SUMMARY:Event: Storey Quiz Night
DESCRIPTION:Join in every Wednesday from 7-10pm for the Storey Quiz Night! Hosted by BBC Radio Lancashire’s Mike Stevens\, you can expect a night full of trivia and fun! \nGrab your friends\, family\, and colleagues to make your team of six and compete. Prizes: 1st £30 Printroom Voucher 2nd £10 Printroom Voucher £1 entry per person
URL:https://virtual-lancaster.net/event/storey-quiz-night/2027-09-15/
LOCATION:The Storey\, Meeting House Lane\, Lancaster\, Lancashire\, LA1 1TH\, United Kingdom
ATTACH;FMTTYPE=image/jpeg:https://virtual-lancaster.net/wp-content/uploads/2012/10/storey-arts-09-10-12.jpg
END:VEVENT
BEGIN:VEVENT
DTSTART;TZID=Europe/London:20270922T190000
DTEND;TZID=Europe/London:20270922T220000
DTSTAMP:20260425T164607
CREATED:20260424T143715Z
LAST-MODIFIED:20260424T143947Z
UID:10000076-1821639600-1821650400@virtual-lancaster.net
SUMMARY:Event: Storey Quiz Night
DESCRIPTION:Join in every Wednesday from 7-10pm for the Storey Quiz Night! Hosted by BBC Radio Lancashire’s Mike Stevens\, you can expect a night full of trivia and fun! \nGrab your friends\, family\, and colleagues to make your team of six and compete. Prizes: 1st £30 Printroom Voucher 2nd £10 Printroom Voucher £1 entry per person
URL:https://virtual-lancaster.net/event/storey-quiz-night/2027-09-22/
LOCATION:The Storey\, Meeting House Lane\, Lancaster\, Lancashire\, LA1 1TH\, United Kingdom
ATTACH;FMTTYPE=image/jpeg:https://virtual-lancaster.net/wp-content/uploads/2012/10/storey-arts-09-10-12.jpg
END:VEVENT
BEGIN:VEVENT
DTSTART;TZID=Europe/London:20270929T190000
DTEND;TZID=Europe/London:20270929T220000
DTSTAMP:20260425T164607
CREATED:20260424T143715Z
LAST-MODIFIED:20260424T143947Z
UID:10000077-1822244400-1822255200@virtual-lancaster.net
SUMMARY:Event: Storey Quiz Night
DESCRIPTION:Join in every Wednesday from 7-10pm for the Storey Quiz Night! Hosted by BBC Radio Lancashire’s Mike Stevens\, you can expect a night full of trivia and fun! \nGrab your friends\, family\, and colleagues to make your team of six and compete. Prizes: 1st £30 Printroom Voucher 2nd £10 Printroom Voucher £1 entry per person
URL:https://virtual-lancaster.net/event/storey-quiz-night/2027-09-29/
LOCATION:The Storey\, Meeting House Lane\, Lancaster\, Lancashire\, LA1 1TH\, United Kingdom
ATTACH;FMTTYPE=image/jpeg:https://virtual-lancaster.net/wp-content/uploads/2012/10/storey-arts-09-10-12.jpg
END:VEVENT
BEGIN:VEVENT
DTSTART;TZID=Europe/London:20271006T190000
DTEND;TZID=Europe/London:20271006T220000
DTSTAMP:20260425T164607
CREATED:20260424T143715Z
LAST-MODIFIED:20260424T143947Z
UID:10000078-1822849200-1822860000@virtual-lancaster.net
SUMMARY:Event: Storey Quiz Night
DESCRIPTION:Join in every Wednesday from 7-10pm for the Storey Quiz Night! Hosted by BBC Radio Lancashire’s Mike Stevens\, you can expect a night full of trivia and fun! \nGrab your friends\, family\, and colleagues to make your team of six and compete. Prizes: 1st £30 Printroom Voucher 2nd £10 Printroom Voucher £1 entry per person
URL:https://virtual-lancaster.net/event/storey-quiz-night/2027-10-06/
LOCATION:The Storey\, Meeting House Lane\, Lancaster\, Lancashire\, LA1 1TH\, United Kingdom
ATTACH;FMTTYPE=image/jpeg:https://virtual-lancaster.net/wp-content/uploads/2012/10/storey-arts-09-10-12.jpg
END:VEVENT
BEGIN:VEVENT
DTSTART;TZID=Europe/London:20271013T190000
DTEND;TZID=Europe/London:20271013T220000
DTSTAMP:20260425T164607
CREATED:20260424T143715Z
LAST-MODIFIED:20260424T143947Z
UID:10000079-1823454000-1823464800@virtual-lancaster.net
SUMMARY:Event: Storey Quiz Night
DESCRIPTION:Join in every Wednesday from 7-10pm for the Storey Quiz Night! Hosted by BBC Radio Lancashire’s Mike Stevens\, you can expect a night full of trivia and fun! \nGrab your friends\, family\, and colleagues to make your team of six and compete. Prizes: 1st £30 Printroom Voucher 2nd £10 Printroom Voucher £1 entry per person
URL:https://virtual-lancaster.net/event/storey-quiz-night/2027-10-13/
LOCATION:The Storey\, Meeting House Lane\, Lancaster\, Lancashire\, LA1 1TH\, United Kingdom
ATTACH;FMTTYPE=image/jpeg:https://virtual-lancaster.net/wp-content/uploads/2012/10/storey-arts-09-10-12.jpg
END:VEVENT
BEGIN:VEVENT
DTSTART;TZID=Europe/London:20271020T190000
DTEND;TZID=Europe/London:20271020T220000
DTSTAMP:20260425T164607
CREATED:20260424T143715Z
LAST-MODIFIED:20260424T143947Z
UID:10000080-1824058800-1824069600@virtual-lancaster.net
SUMMARY:Event: Storey Quiz Night
DESCRIPTION:Join in every Wednesday from 7-10pm for the Storey Quiz Night! Hosted by BBC Radio Lancashire’s Mike Stevens\, you can expect a night full of trivia and fun! \nGrab your friends\, family\, and colleagues to make your team of six and compete. Prizes: 1st £30 Printroom Voucher 2nd £10 Printroom Voucher £1 entry per person
URL:https://virtual-lancaster.net/event/storey-quiz-night/2027-10-20/
LOCATION:The Storey\, Meeting House Lane\, Lancaster\, Lancashire\, LA1 1TH\, United Kingdom
ATTACH;FMTTYPE=image/jpeg:https://virtual-lancaster.net/wp-content/uploads/2012/10/storey-arts-09-10-12.jpg
END:VEVENT
BEGIN:VEVENT
DTSTART;TZID=Europe/London:20271027T190000
DTEND;TZID=Europe/London:20271027T220000
DTSTAMP:20260425T164608
CREATED:20260424T143715Z
LAST-MODIFIED:20260424T143947Z
UID:10000081-1824663600-1824674400@virtual-lancaster.net
SUMMARY:Event: Storey Quiz Night
DESCRIPTION:Join in every Wednesday from 7-10pm for the Storey Quiz Night! Hosted by BBC Radio Lancashire’s Mike Stevens\, you can expect a night full of trivia and fun! \nGrab your friends\, family\, and colleagues to make your team of six and compete. Prizes: 1st £30 Printroom Voucher 2nd £10 Printroom Voucher £1 entry per person
URL:https://virtual-lancaster.net/event/storey-quiz-night/2027-10-27/
LOCATION:The Storey\, Meeting House Lane\, Lancaster\, Lancashire\, LA1 1TH\, United Kingdom
ATTACH;FMTTYPE=image/jpeg:https://virtual-lancaster.net/wp-content/uploads/2012/10/storey-arts-09-10-12.jpg
END:VEVENT
BEGIN:VEVENT
DTSTART;TZID=Europe/London:20271103T190000
DTEND;TZID=Europe/London:20271103T220000
DTSTAMP:20260425T164608
CREATED:20260424T143715Z
LAST-MODIFIED:20260424T143947Z
UID:10000082-1825268400-1825279200@virtual-lancaster.net
SUMMARY:Event: Storey Quiz Night
DESCRIPTION:Join in every Wednesday from 7-10pm for the Storey Quiz Night! Hosted by BBC Radio Lancashire’s Mike Stevens\, you can expect a night full of trivia and fun! \nGrab your friends\, family\, and colleagues to make your team of six and compete. Prizes: 1st £30 Printroom Voucher 2nd £10 Printroom Voucher £1 entry per person
URL:https://virtual-lancaster.net/event/storey-quiz-night/2027-11-03/
LOCATION:The Storey\, Meeting House Lane\, Lancaster\, Lancashire\, LA1 1TH\, United Kingdom
ATTACH;FMTTYPE=image/jpeg:https://virtual-lancaster.net/wp-content/uploads/2012/10/storey-arts-09-10-12.jpg
END:VEVENT
BEGIN:VEVENT
DTSTART;TZID=Europe/London:20271110T190000
DTEND;TZID=Europe/London:20271110T220000
DTSTAMP:20260425T164608
CREATED:20260424T143715Z
LAST-MODIFIED:20260424T143947Z
UID:10000083-1825873200-1825884000@virtual-lancaster.net
SUMMARY:Event: Storey Quiz Night
DESCRIPTION:Join in every Wednesday from 7-10pm for the Storey Quiz Night! Hosted by BBC Radio Lancashire’s Mike Stevens\, you can expect a night full of trivia and fun! \nGrab your friends\, family\, and colleagues to make your team of six and compete. Prizes: 1st £30 Printroom Voucher 2nd £10 Printroom Voucher £1 entry per person
URL:https://virtual-lancaster.net/event/storey-quiz-night/2027-11-10/
LOCATION:The Storey\, Meeting House Lane\, Lancaster\, Lancashire\, LA1 1TH\, United Kingdom
ATTACH;FMTTYPE=image/jpeg:https://virtual-lancaster.net/wp-content/uploads/2012/10/storey-arts-09-10-12.jpg
END:VEVENT
BEGIN:VEVENT
DTSTART;TZID=Europe/London:20271117T190000
DTEND;TZID=Europe/London:20271117T220000
DTSTAMP:20260425T164608
CREATED:20260424T143715Z
LAST-MODIFIED:20260424T143947Z
UID:10000084-1826478000-1826488800@virtual-lancaster.net
SUMMARY:Event: Storey Quiz Night
DESCRIPTION:Join in every Wednesday from 7-10pm for the Storey Quiz Night! Hosted by BBC Radio Lancashire’s Mike Stevens\, you can expect a night full of trivia and fun! \nGrab your friends\, family\, and colleagues to make your team of six and compete. Prizes: 1st £30 Printroom Voucher 2nd £10 Printroom Voucher £1 entry per person
URL:https://virtual-lancaster.net/event/storey-quiz-night/2027-11-17/
LOCATION:The Storey\, Meeting House Lane\, Lancaster\, Lancashire\, LA1 1TH\, United Kingdom
ATTACH;FMTTYPE=image/jpeg:https://virtual-lancaster.net/wp-content/uploads/2012/10/storey-arts-09-10-12.jpg
END:VEVENT
BEGIN:VEVENT
DTSTART;TZID=Europe/London:20271124T190000
DTEND;TZID=Europe/London:20271124T220000
DTSTAMP:20260425T164608
CREATED:20260424T143715Z
LAST-MODIFIED:20260424T143947Z
UID:10000085-1827082800-1827093600@virtual-lancaster.net
SUMMARY:Event: Storey Quiz Night
DESCRIPTION:Join in every Wednesday from 7-10pm for the Storey Quiz Night! Hosted by BBC Radio Lancashire’s Mike Stevens\, you can expect a night full of trivia and fun! \nGrab your friends\, family\, and colleagues to make your team of six and compete. Prizes: 1st £30 Printroom Voucher 2nd £10 Printroom Voucher £1 entry per person
URL:https://virtual-lancaster.net/event/storey-quiz-night/2027-11-24/
LOCATION:The Storey\, Meeting House Lane\, Lancaster\, Lancashire\, LA1 1TH\, United Kingdom
ATTACH;FMTTYPE=image/jpeg:https://virtual-lancaster.net/wp-content/uploads/2012/10/storey-arts-09-10-12.jpg
END:VEVENT
BEGIN:VEVENT
DTSTART;TZID=Europe/London:20271201T190000
DTEND;TZID=Europe/London:20271201T220000
DTSTAMP:20260425T164608
CREATED:20260424T143715Z
LAST-MODIFIED:20260424T143947Z
UID:10000086-1827687600-1827698400@virtual-lancaster.net
SUMMARY:Event: Storey Quiz Night
DESCRIPTION:Join in every Wednesday from 7-10pm for the Storey Quiz Night! Hosted by BBC Radio Lancashire’s Mike Stevens\, you can expect a night full of trivia and fun! \nGrab your friends\, family\, and colleagues to make your team of six and compete. Prizes: 1st £30 Printroom Voucher 2nd £10 Printroom Voucher £1 entry per person
URL:https://virtual-lancaster.net/event/storey-quiz-night/2027-12-01/
LOCATION:The Storey\, Meeting House Lane\, Lancaster\, Lancashire\, LA1 1TH\, United Kingdom
ATTACH;FMTTYPE=image/jpeg:https://virtual-lancaster.net/wp-content/uploads/2012/10/storey-arts-09-10-12.jpg
END:VEVENT
BEGIN:VEVENT
DTSTART;TZID=Europe/London:20271208T190000
DTEND;TZID=Europe/London:20271208T220000
DTSTAMP:20260425T164608
CREATED:20260424T143715Z
LAST-MODIFIED:20260424T143947Z
UID:10000087-1828292400-1828303200@virtual-lancaster.net
SUMMARY:Event: Storey Quiz Night
DESCRIPTION:Join in every Wednesday from 7-10pm for the Storey Quiz Night! Hosted by BBC Radio Lancashire’s Mike Stevens\, you can expect a night full of trivia and fun! \nGrab your friends\, family\, and colleagues to make your team of six and compete. Prizes: 1st £30 Printroom Voucher 2nd £10 Printroom Voucher £1 entry per person
URL:https://virtual-lancaster.net/event/storey-quiz-night/2027-12-08/
LOCATION:The Storey\, Meeting House Lane\, Lancaster\, Lancashire\, LA1 1TH\, United Kingdom
ATTACH;FMTTYPE=image/jpeg:https://virtual-lancaster.net/wp-content/uploads/2012/10/storey-arts-09-10-12.jpg
END:VEVENT
BEGIN:VEVENT
DTSTART;TZID=Europe/London:20271215T190000
DTEND;TZID=Europe/London:20271215T220000
DTSTAMP:20260425T164608
CREATED:20260424T143715Z
LAST-MODIFIED:20260424T143947Z
UID:10000088-1828897200-1828908000@virtual-lancaster.net
SUMMARY:Event: Storey Quiz Night
DESCRIPTION:Join in every Wednesday from 7-10pm for the Storey Quiz Night! Hosted by BBC Radio Lancashire’s Mike Stevens\, you can expect a night full of trivia and fun! \nGrab your friends\, family\, and colleagues to make your team of six and compete. Prizes: 1st £30 Printroom Voucher 2nd £10 Printroom Voucher £1 entry per person
URL:https://virtual-lancaster.net/event/storey-quiz-night/2027-12-15/
LOCATION:The Storey\, Meeting House Lane\, Lancaster\, Lancashire\, LA1 1TH\, United Kingdom
ATTACH;FMTTYPE=image/jpeg:https://virtual-lancaster.net/wp-content/uploads/2012/10/storey-arts-09-10-12.jpg
END:VEVENT
BEGIN:VEVENT
DTSTART;TZID=Europe/London:20271222T190000
DTEND;TZID=Europe/London:20271222T220000
DTSTAMP:20260425T164608
CREATED:20260424T143715Z
LAST-MODIFIED:20260424T143947Z
UID:10000089-1829502000-1829512800@virtual-lancaster.net
SUMMARY:Event: Storey Quiz Night
DESCRIPTION:Join in every Wednesday from 7-10pm for the Storey Quiz Night! Hosted by BBC Radio Lancashire’s Mike Stevens\, you can expect a night full of trivia and fun! \nGrab your friends\, family\, and colleagues to make your team of six and compete. Prizes: 1st £30 Printroom Voucher 2nd £10 Printroom Voucher £1 entry per person
URL:https://virtual-lancaster.net/event/storey-quiz-night/2027-12-22/
LOCATION:The Storey\, Meeting House Lane\, Lancaster\, Lancashire\, LA1 1TH\, United Kingdom
ATTACH;FMTTYPE=image/jpeg:https://virtual-lancaster.net/wp-content/uploads/2012/10/storey-arts-09-10-12.jpg
END:VEVENT
BEGIN:VEVENT
DTSTART;TZID=Europe/London:20271229T190000
DTEND;TZID=Europe/London:20271229T220000
DTSTAMP:20260425T164608
CREATED:20260424T143715Z
LAST-MODIFIED:20260424T143947Z
UID:10000090-1830106800-1830117600@virtual-lancaster.net
SUMMARY:Event: Storey Quiz Night
DESCRIPTION:Join in every Wednesday from 7-10pm for the Storey Quiz Night! Hosted by BBC Radio Lancashire’s Mike Stevens\, you can expect a night full of trivia and fun! \nGrab your friends\, family\, and colleagues to make your team of six and compete. Prizes: 1st £30 Printroom Voucher 2nd £10 Printroom Voucher £1 entry per person
URL:https://virtual-lancaster.net/event/storey-quiz-night/2027-12-29/
LOCATION:The Storey\, Meeting House Lane\, Lancaster\, Lancashire\, LA1 1TH\, United Kingdom
ATTACH;FMTTYPE=image/jpeg:https://virtual-lancaster.net/wp-content/uploads/2012/10/storey-arts-09-10-12.jpg
END:VEVENT
BEGIN:VEVENT
DTSTART;TZID=Europe/London:20280105T190000
DTEND;TZID=Europe/London:20280105T220000
DTSTAMP:20260425T164608
CREATED:20260424T143715Z
LAST-MODIFIED:20260424T143947Z
UID:10000091-1830711600-1830722400@virtual-lancaster.net
SUMMARY:Event: Storey Quiz Night
DESCRIPTION:Join in every Wednesday from 7-10pm for the Storey Quiz Night! Hosted by BBC Radio Lancashire’s Mike Stevens\, you can expect a night full of trivia and fun! \nGrab your friends\, family\, and colleagues to make your team of six and compete. Prizes: 1st £30 Printroom Voucher 2nd £10 Printroom Voucher £1 entry per person
URL:https://virtual-lancaster.net/event/storey-quiz-night/2028-01-05/
LOCATION:The Storey\, Meeting House Lane\, Lancaster\, Lancashire\, LA1 1TH\, United Kingdom
ATTACH;FMTTYPE=image/jpeg:https://virtual-lancaster.net/wp-content/uploads/2012/10/storey-arts-09-10-12.jpg
END:VEVENT
BEGIN:VEVENT
DTSTART;TZID=Europe/London:20280112T190000
DTEND;TZID=Europe/London:20280112T220000
DTSTAMP:20260425T164608
CREATED:20260424T143715Z
LAST-MODIFIED:20260424T143947Z
UID:10000092-1831316400-1831327200@virtual-lancaster.net
SUMMARY:Event: Storey Quiz Night
DESCRIPTION:Join in every Wednesday from 7-10pm for the Storey Quiz Night! Hosted by BBC Radio Lancashire’s Mike Stevens\, you can expect a night full of trivia and fun! \nGrab your friends\, family\, and colleagues to make your team of six and compete. Prizes: 1st £30 Printroom Voucher 2nd £10 Printroom Voucher £1 entry per person
URL:https://virtual-lancaster.net/event/storey-quiz-night/2028-01-12/
LOCATION:The Storey\, Meeting House Lane\, Lancaster\, Lancashire\, LA1 1TH\, United Kingdom
ATTACH;FMTTYPE=image/jpeg:https://virtual-lancaster.net/wp-content/uploads/2012/10/storey-arts-09-10-12.jpg
END:VEVENT
BEGIN:VEVENT
DTSTART;TZID=Europe/London:20280119T190000
DTEND;TZID=Europe/London:20280119T220000
DTSTAMP:20260425T164608
CREATED:20260424T143715Z
LAST-MODIFIED:20260424T143947Z
UID:10000093-1831921200-1831932000@virtual-lancaster.net
SUMMARY:Event: Storey Quiz Night
DESCRIPTION:Join in every Wednesday from 7-10pm for the Storey Quiz Night! Hosted by BBC Radio Lancashire’s Mike Stevens\, you can expect a night full of trivia and fun! \nGrab your friends\, family\, and colleagues to make your team of six and compete. Prizes: 1st £30 Printroom Voucher 2nd £10 Printroom Voucher £1 entry per person
URL:https://virtual-lancaster.net/event/storey-quiz-night/2028-01-19/
LOCATION:The Storey\, Meeting House Lane\, Lancaster\, Lancashire\, LA1 1TH\, United Kingdom
ATTACH;FMTTYPE=image/jpeg:https://virtual-lancaster.net/wp-content/uploads/2012/10/storey-arts-09-10-12.jpg
END:VEVENT
END:VCALENDAR