BEGIN:VCALENDAR
VERSION:2.0
PRODID:-//Virtual Lancaster - ECPv6.15.20//NONSGML v1.0//EN
CALSCALE:GREGORIAN
METHOD:PUBLISH
X-ORIGINAL-URL:https://virtual-lancaster.net
X-WR-CALDESC:Events for Virtual Lancaster
REFRESH-INTERVAL;VALUE=DURATION:PT1H
X-Robots-Tag:noindex
X-PUBLISHED-TTL:PT1H
BEGIN:VTIMEZONE
TZID:Europe/London
BEGIN:DAYLIGHT
TZOFFSETFROM:+0000
TZOFFSETTO:+0100
TZNAME:BST
DTSTART:20290325T010000
END:DAYLIGHT
BEGIN:STANDARD
TZOFFSETFROM:+0100
TZOFFSETTO:+0000
TZNAME:GMT
DTSTART:20291028T010000
END:STANDARD
BEGIN:DAYLIGHT
TZOFFSETFROM:+0000
TZOFFSETTO:+0100
TZNAME:BST
DTSTART:20300331T010000
END:DAYLIGHT
BEGIN:STANDARD
TZOFFSETFROM:+0100
TZOFFSETTO:+0000
TZNAME:GMT
DTSTART:20301027T010000
END:STANDARD
BEGIN:DAYLIGHT
TZOFFSETFROM:+0000
TZOFFSETTO:+0100
TZNAME:BST
DTSTART:20310330T010000
END:DAYLIGHT
BEGIN:STANDARD
TZOFFSETFROM:+0100
TZOFFSETTO:+0000
TZNAME:GMT
DTSTART:20311026T010000
END:STANDARD
BEGIN:DAYLIGHT
TZOFFSETFROM:+0000
TZOFFSETTO:+0100
TZNAME:BST
DTSTART:20320328T010000
END:DAYLIGHT
BEGIN:STANDARD
TZOFFSETFROM:+0100
TZOFFSETTO:+0000
TZNAME:GMT
DTSTART:20321031T010000
END:STANDARD
END:VTIMEZONE
BEGIN:VEVENT
DTSTART;TZID=Europe/London:20300710T190000
DTEND;TZID=Europe/London:20300710T220000
DTSTAMP:20260426T004725
CREATED:20260424T143715Z
LAST-MODIFIED:20260424T143947Z
UID:10000222-1909940400-1909951200@virtual-lancaster.net
SUMMARY:Event: Storey Quiz Night
DESCRIPTION:Join in every Wednesday from 7-10pm for the Storey Quiz Night! Hosted by BBC Radio Lancashire’s Mike Stevens\, you can expect a night full of trivia and fun! \nGrab your friends\, family\, and colleagues to make your team of six and compete. Prizes: 1st £30 Printroom Voucher 2nd £10 Printroom Voucher £1 entry per person
URL:https://virtual-lancaster.net/event/storey-quiz-night/2030-07-10/
LOCATION:The Storey\, Meeting House Lane\, Lancaster\, Lancashire\, LA1 1TH\, United Kingdom
ATTACH;FMTTYPE=image/jpeg:https://virtual-lancaster.net/wp-content/uploads/2012/10/storey-arts-09-10-12.jpg
END:VEVENT
BEGIN:VEVENT
DTSTART;TZID=Europe/London:20300717T190000
DTEND;TZID=Europe/London:20300717T220000
DTSTAMP:20260426T004725
CREATED:20260424T143715Z
LAST-MODIFIED:20260424T143947Z
UID:10000223-1910545200-1910556000@virtual-lancaster.net
SUMMARY:Event: Storey Quiz Night
DESCRIPTION:Join in every Wednesday from 7-10pm for the Storey Quiz Night! Hosted by BBC Radio Lancashire’s Mike Stevens\, you can expect a night full of trivia and fun! \nGrab your friends\, family\, and colleagues to make your team of six and compete. Prizes: 1st £30 Printroom Voucher 2nd £10 Printroom Voucher £1 entry per person
URL:https://virtual-lancaster.net/event/storey-quiz-night/2030-07-17/
LOCATION:The Storey\, Meeting House Lane\, Lancaster\, Lancashire\, LA1 1TH\, United Kingdom
ATTACH;FMTTYPE=image/jpeg:https://virtual-lancaster.net/wp-content/uploads/2012/10/storey-arts-09-10-12.jpg
END:VEVENT
BEGIN:VEVENT
DTSTART;TZID=Europe/London:20300724T190000
DTEND;TZID=Europe/London:20300724T220000
DTSTAMP:20260426T004725
CREATED:20260424T143715Z
LAST-MODIFIED:20260424T143947Z
UID:10000224-1911150000-1911160800@virtual-lancaster.net
SUMMARY:Event: Storey Quiz Night
DESCRIPTION:Join in every Wednesday from 7-10pm for the Storey Quiz Night! Hosted by BBC Radio Lancashire’s Mike Stevens\, you can expect a night full of trivia and fun! \nGrab your friends\, family\, and colleagues to make your team of six and compete. Prizes: 1st £30 Printroom Voucher 2nd £10 Printroom Voucher £1 entry per person
URL:https://virtual-lancaster.net/event/storey-quiz-night/2030-07-24/
LOCATION:The Storey\, Meeting House Lane\, Lancaster\, Lancashire\, LA1 1TH\, United Kingdom
ATTACH;FMTTYPE=image/jpeg:https://virtual-lancaster.net/wp-content/uploads/2012/10/storey-arts-09-10-12.jpg
END:VEVENT
BEGIN:VEVENT
DTSTART;TZID=Europe/London:20300731T190000
DTEND;TZID=Europe/London:20300731T220000
DTSTAMP:20260426T004725
CREATED:20260424T143715Z
LAST-MODIFIED:20260424T143947Z
UID:10000225-1911754800-1911765600@virtual-lancaster.net
SUMMARY:Event: Storey Quiz Night
DESCRIPTION:Join in every Wednesday from 7-10pm for the Storey Quiz Night! Hosted by BBC Radio Lancashire’s Mike Stevens\, you can expect a night full of trivia and fun! \nGrab your friends\, family\, and colleagues to make your team of six and compete. Prizes: 1st £30 Printroom Voucher 2nd £10 Printroom Voucher £1 entry per person
URL:https://virtual-lancaster.net/event/storey-quiz-night/2030-07-31/
LOCATION:The Storey\, Meeting House Lane\, Lancaster\, Lancashire\, LA1 1TH\, United Kingdom
ATTACH;FMTTYPE=image/jpeg:https://virtual-lancaster.net/wp-content/uploads/2012/10/storey-arts-09-10-12.jpg
END:VEVENT
BEGIN:VEVENT
DTSTART;TZID=Europe/London:20300807T190000
DTEND;TZID=Europe/London:20300807T220000
DTSTAMP:20260426T004725
CREATED:20260424T143715Z
LAST-MODIFIED:20260424T143947Z
UID:10000226-1912359600-1912370400@virtual-lancaster.net
SUMMARY:Event: Storey Quiz Night
DESCRIPTION:Join in every Wednesday from 7-10pm for the Storey Quiz Night! Hosted by BBC Radio Lancashire’s Mike Stevens\, you can expect a night full of trivia and fun! \nGrab your friends\, family\, and colleagues to make your team of six and compete. Prizes: 1st £30 Printroom Voucher 2nd £10 Printroom Voucher £1 entry per person
URL:https://virtual-lancaster.net/event/storey-quiz-night/2030-08-07/
LOCATION:The Storey\, Meeting House Lane\, Lancaster\, Lancashire\, LA1 1TH\, United Kingdom
ATTACH;FMTTYPE=image/jpeg:https://virtual-lancaster.net/wp-content/uploads/2012/10/storey-arts-09-10-12.jpg
END:VEVENT
BEGIN:VEVENT
DTSTART;TZID=Europe/London:20300814T190000
DTEND;TZID=Europe/London:20300814T220000
DTSTAMP:20260426T004725
CREATED:20260424T143715Z
LAST-MODIFIED:20260424T143947Z
UID:10000227-1912964400-1912975200@virtual-lancaster.net
SUMMARY:Event: Storey Quiz Night
DESCRIPTION:Join in every Wednesday from 7-10pm for the Storey Quiz Night! Hosted by BBC Radio Lancashire’s Mike Stevens\, you can expect a night full of trivia and fun! \nGrab your friends\, family\, and colleagues to make your team of six and compete. Prizes: 1st £30 Printroom Voucher 2nd £10 Printroom Voucher £1 entry per person
URL:https://virtual-lancaster.net/event/storey-quiz-night/2030-08-14/
LOCATION:The Storey\, Meeting House Lane\, Lancaster\, Lancashire\, LA1 1TH\, United Kingdom
ATTACH;FMTTYPE=image/jpeg:https://virtual-lancaster.net/wp-content/uploads/2012/10/storey-arts-09-10-12.jpg
END:VEVENT
BEGIN:VEVENT
DTSTART;TZID=Europe/London:20300821T190000
DTEND;TZID=Europe/London:20300821T220000
DTSTAMP:20260426T004725
CREATED:20260424T143715Z
LAST-MODIFIED:20260424T143947Z
UID:10000228-1913569200-1913580000@virtual-lancaster.net
SUMMARY:Event: Storey Quiz Night
DESCRIPTION:Join in every Wednesday from 7-10pm for the Storey Quiz Night! Hosted by BBC Radio Lancashire’s Mike Stevens\, you can expect a night full of trivia and fun! \nGrab your friends\, family\, and colleagues to make your team of six and compete. Prizes: 1st £30 Printroom Voucher 2nd £10 Printroom Voucher £1 entry per person
URL:https://virtual-lancaster.net/event/storey-quiz-night/2030-08-21/
LOCATION:The Storey\, Meeting House Lane\, Lancaster\, Lancashire\, LA1 1TH\, United Kingdom
ATTACH;FMTTYPE=image/jpeg:https://virtual-lancaster.net/wp-content/uploads/2012/10/storey-arts-09-10-12.jpg
END:VEVENT
BEGIN:VEVENT
DTSTART;TZID=Europe/London:20300828T190000
DTEND;TZID=Europe/London:20300828T220000
DTSTAMP:20260426T004725
CREATED:20260424T143715Z
LAST-MODIFIED:20260424T143947Z
UID:10000229-1914174000-1914184800@virtual-lancaster.net
SUMMARY:Event: Storey Quiz Night
DESCRIPTION:Join in every Wednesday from 7-10pm for the Storey Quiz Night! Hosted by BBC Radio Lancashire’s Mike Stevens\, you can expect a night full of trivia and fun! \nGrab your friends\, family\, and colleagues to make your team of six and compete. Prizes: 1st £30 Printroom Voucher 2nd £10 Printroom Voucher £1 entry per person
URL:https://virtual-lancaster.net/event/storey-quiz-night/2030-08-28/
LOCATION:The Storey\, Meeting House Lane\, Lancaster\, Lancashire\, LA1 1TH\, United Kingdom
ATTACH;FMTTYPE=image/jpeg:https://virtual-lancaster.net/wp-content/uploads/2012/10/storey-arts-09-10-12.jpg
END:VEVENT
BEGIN:VEVENT
DTSTART;TZID=Europe/London:20300904T190000
DTEND;TZID=Europe/London:20300904T220000
DTSTAMP:20260426T004725
CREATED:20260424T143715Z
LAST-MODIFIED:20260424T143947Z
UID:10000230-1914778800-1914789600@virtual-lancaster.net
SUMMARY:Event: Storey Quiz Night
DESCRIPTION:Join in every Wednesday from 7-10pm for the Storey Quiz Night! Hosted by BBC Radio Lancashire’s Mike Stevens\, you can expect a night full of trivia and fun! \nGrab your friends\, family\, and colleagues to make your team of six and compete. Prizes: 1st £30 Printroom Voucher 2nd £10 Printroom Voucher £1 entry per person
URL:https://virtual-lancaster.net/event/storey-quiz-night/2030-09-04/
LOCATION:The Storey\, Meeting House Lane\, Lancaster\, Lancashire\, LA1 1TH\, United Kingdom
ATTACH;FMTTYPE=image/jpeg:https://virtual-lancaster.net/wp-content/uploads/2012/10/storey-arts-09-10-12.jpg
END:VEVENT
BEGIN:VEVENT
DTSTART;TZID=Europe/London:20300911T190000
DTEND;TZID=Europe/London:20300911T220000
DTSTAMP:20260426T004725
CREATED:20260424T143715Z
LAST-MODIFIED:20260424T143947Z
UID:10000231-1915383600-1915394400@virtual-lancaster.net
SUMMARY:Event: Storey Quiz Night
DESCRIPTION:Join in every Wednesday from 7-10pm for the Storey Quiz Night! Hosted by BBC Radio Lancashire’s Mike Stevens\, you can expect a night full of trivia and fun! \nGrab your friends\, family\, and colleagues to make your team of six and compete. Prizes: 1st £30 Printroom Voucher 2nd £10 Printroom Voucher £1 entry per person
URL:https://virtual-lancaster.net/event/storey-quiz-night/2030-09-11/
LOCATION:The Storey\, Meeting House Lane\, Lancaster\, Lancashire\, LA1 1TH\, United Kingdom
ATTACH;FMTTYPE=image/jpeg:https://virtual-lancaster.net/wp-content/uploads/2012/10/storey-arts-09-10-12.jpg
END:VEVENT
BEGIN:VEVENT
DTSTART;TZID=Europe/London:20300918T190000
DTEND;TZID=Europe/London:20300918T220000
DTSTAMP:20260426T004725
CREATED:20260424T143715Z
LAST-MODIFIED:20260424T143947Z
UID:10000232-1915988400-1915999200@virtual-lancaster.net
SUMMARY:Event: Storey Quiz Night
DESCRIPTION:Join in every Wednesday from 7-10pm for the Storey Quiz Night! Hosted by BBC Radio Lancashire’s Mike Stevens\, you can expect a night full of trivia and fun! \nGrab your friends\, family\, and colleagues to make your team of six and compete. Prizes: 1st £30 Printroom Voucher 2nd £10 Printroom Voucher £1 entry per person
URL:https://virtual-lancaster.net/event/storey-quiz-night/2030-09-18/
LOCATION:The Storey\, Meeting House Lane\, Lancaster\, Lancashire\, LA1 1TH\, United Kingdom
ATTACH;FMTTYPE=image/jpeg:https://virtual-lancaster.net/wp-content/uploads/2012/10/storey-arts-09-10-12.jpg
END:VEVENT
BEGIN:VEVENT
DTSTART;TZID=Europe/London:20300925T190000
DTEND;TZID=Europe/London:20300925T220000
DTSTAMP:20260426T004725
CREATED:20260424T143715Z
LAST-MODIFIED:20260424T143947Z
UID:10000233-1916593200-1916604000@virtual-lancaster.net
SUMMARY:Event: Storey Quiz Night
DESCRIPTION:Join in every Wednesday from 7-10pm for the Storey Quiz Night! Hosted by BBC Radio Lancashire’s Mike Stevens\, you can expect a night full of trivia and fun! \nGrab your friends\, family\, and colleagues to make your team of six and compete. Prizes: 1st £30 Printroom Voucher 2nd £10 Printroom Voucher £1 entry per person
URL:https://virtual-lancaster.net/event/storey-quiz-night/2030-09-25/
LOCATION:The Storey\, Meeting House Lane\, Lancaster\, Lancashire\, LA1 1TH\, United Kingdom
ATTACH;FMTTYPE=image/jpeg:https://virtual-lancaster.net/wp-content/uploads/2012/10/storey-arts-09-10-12.jpg
END:VEVENT
BEGIN:VEVENT
DTSTART;TZID=Europe/London:20301002T190000
DTEND;TZID=Europe/London:20301002T220000
DTSTAMP:20260426T004725
CREATED:20260424T143715Z
LAST-MODIFIED:20260424T143947Z
UID:10000234-1917198000-1917208800@virtual-lancaster.net
SUMMARY:Event: Storey Quiz Night
DESCRIPTION:Join in every Wednesday from 7-10pm for the Storey Quiz Night! Hosted by BBC Radio Lancashire’s Mike Stevens\, you can expect a night full of trivia and fun! \nGrab your friends\, family\, and colleagues to make your team of six and compete. Prizes: 1st £30 Printroom Voucher 2nd £10 Printroom Voucher £1 entry per person
URL:https://virtual-lancaster.net/event/storey-quiz-night/2030-10-02/
LOCATION:The Storey\, Meeting House Lane\, Lancaster\, Lancashire\, LA1 1TH\, United Kingdom
ATTACH;FMTTYPE=image/jpeg:https://virtual-lancaster.net/wp-content/uploads/2012/10/storey-arts-09-10-12.jpg
END:VEVENT
BEGIN:VEVENT
DTSTART;TZID=Europe/London:20301009T190000
DTEND;TZID=Europe/London:20301009T220000
DTSTAMP:20260426T004725
CREATED:20260424T143715Z
LAST-MODIFIED:20260424T143947Z
UID:10000235-1917802800-1917813600@virtual-lancaster.net
SUMMARY:Event: Storey Quiz Night
DESCRIPTION:Join in every Wednesday from 7-10pm for the Storey Quiz Night! Hosted by BBC Radio Lancashire’s Mike Stevens\, you can expect a night full of trivia and fun! \nGrab your friends\, family\, and colleagues to make your team of six and compete. Prizes: 1st £30 Printroom Voucher 2nd £10 Printroom Voucher £1 entry per person
URL:https://virtual-lancaster.net/event/storey-quiz-night/2030-10-09/
LOCATION:The Storey\, Meeting House Lane\, Lancaster\, Lancashire\, LA1 1TH\, United Kingdom
ATTACH;FMTTYPE=image/jpeg:https://virtual-lancaster.net/wp-content/uploads/2012/10/storey-arts-09-10-12.jpg
END:VEVENT
BEGIN:VEVENT
DTSTART;TZID=Europe/London:20301016T190000
DTEND;TZID=Europe/London:20301016T220000
DTSTAMP:20260426T004725
CREATED:20260424T143715Z
LAST-MODIFIED:20260424T143947Z
UID:10000236-1918407600-1918418400@virtual-lancaster.net
SUMMARY:Event: Storey Quiz Night
DESCRIPTION:Join in every Wednesday from 7-10pm for the Storey Quiz Night! Hosted by BBC Radio Lancashire’s Mike Stevens\, you can expect a night full of trivia and fun! \nGrab your friends\, family\, and colleagues to make your team of six and compete. Prizes: 1st £30 Printroom Voucher 2nd £10 Printroom Voucher £1 entry per person
URL:https://virtual-lancaster.net/event/storey-quiz-night/2030-10-16/
LOCATION:The Storey\, Meeting House Lane\, Lancaster\, Lancashire\, LA1 1TH\, United Kingdom
ATTACH;FMTTYPE=image/jpeg:https://virtual-lancaster.net/wp-content/uploads/2012/10/storey-arts-09-10-12.jpg
END:VEVENT
BEGIN:VEVENT
DTSTART;TZID=Europe/London:20301023T190000
DTEND;TZID=Europe/London:20301023T220000
DTSTAMP:20260426T004725
CREATED:20260424T143715Z
LAST-MODIFIED:20260424T143947Z
UID:10000237-1919012400-1919023200@virtual-lancaster.net
SUMMARY:Event: Storey Quiz Night
DESCRIPTION:Join in every Wednesday from 7-10pm for the Storey Quiz Night! Hosted by BBC Radio Lancashire’s Mike Stevens\, you can expect a night full of trivia and fun! \nGrab your friends\, family\, and colleagues to make your team of six and compete. Prizes: 1st £30 Printroom Voucher 2nd £10 Printroom Voucher £1 entry per person
URL:https://virtual-lancaster.net/event/storey-quiz-night/2030-10-23/
LOCATION:The Storey\, Meeting House Lane\, Lancaster\, Lancashire\, LA1 1TH\, United Kingdom
ATTACH;FMTTYPE=image/jpeg:https://virtual-lancaster.net/wp-content/uploads/2012/10/storey-arts-09-10-12.jpg
END:VEVENT
BEGIN:VEVENT
DTSTART;TZID=Europe/London:20301030T190000
DTEND;TZID=Europe/London:20301030T220000
DTSTAMP:20260426T004725
CREATED:20260424T143715Z
LAST-MODIFIED:20260424T143947Z
UID:10000238-1919617200-1919628000@virtual-lancaster.net
SUMMARY:Event: Storey Quiz Night
DESCRIPTION:Join in every Wednesday from 7-10pm for the Storey Quiz Night! Hosted by BBC Radio Lancashire’s Mike Stevens\, you can expect a night full of trivia and fun! \nGrab your friends\, family\, and colleagues to make your team of six and compete. Prizes: 1st £30 Printroom Voucher 2nd £10 Printroom Voucher £1 entry per person
URL:https://virtual-lancaster.net/event/storey-quiz-night/2030-10-30/
LOCATION:The Storey\, Meeting House Lane\, Lancaster\, Lancashire\, LA1 1TH\, United Kingdom
ATTACH;FMTTYPE=image/jpeg:https://virtual-lancaster.net/wp-content/uploads/2012/10/storey-arts-09-10-12.jpg
END:VEVENT
BEGIN:VEVENT
DTSTART;TZID=Europe/London:20301106T190000
DTEND;TZID=Europe/London:20301106T220000
DTSTAMP:20260426T004725
CREATED:20260424T143715Z
LAST-MODIFIED:20260424T143947Z
UID:10000239-1920222000-1920232800@virtual-lancaster.net
SUMMARY:Event: Storey Quiz Night
DESCRIPTION:Join in every Wednesday from 7-10pm for the Storey Quiz Night! Hosted by BBC Radio Lancashire’s Mike Stevens\, you can expect a night full of trivia and fun! \nGrab your friends\, family\, and colleagues to make your team of six and compete. Prizes: 1st £30 Printroom Voucher 2nd £10 Printroom Voucher £1 entry per person
URL:https://virtual-lancaster.net/event/storey-quiz-night/2030-11-06/
LOCATION:The Storey\, Meeting House Lane\, Lancaster\, Lancashire\, LA1 1TH\, United Kingdom
ATTACH;FMTTYPE=image/jpeg:https://virtual-lancaster.net/wp-content/uploads/2012/10/storey-arts-09-10-12.jpg
END:VEVENT
BEGIN:VEVENT
DTSTART;TZID=Europe/London:20301113T190000
DTEND;TZID=Europe/London:20301113T220000
DTSTAMP:20260426T004725
CREATED:20260424T143715Z
LAST-MODIFIED:20260424T143947Z
UID:10000240-1920826800-1920837600@virtual-lancaster.net
SUMMARY:Event: Storey Quiz Night
DESCRIPTION:Join in every Wednesday from 7-10pm for the Storey Quiz Night! Hosted by BBC Radio Lancashire’s Mike Stevens\, you can expect a night full of trivia and fun! \nGrab your friends\, family\, and colleagues to make your team of six and compete. Prizes: 1st £30 Printroom Voucher 2nd £10 Printroom Voucher £1 entry per person
URL:https://virtual-lancaster.net/event/storey-quiz-night/2030-11-13/
LOCATION:The Storey\, Meeting House Lane\, Lancaster\, Lancashire\, LA1 1TH\, United Kingdom
ATTACH;FMTTYPE=image/jpeg:https://virtual-lancaster.net/wp-content/uploads/2012/10/storey-arts-09-10-12.jpg
END:VEVENT
BEGIN:VEVENT
DTSTART;TZID=Europe/London:20301120T190000
DTEND;TZID=Europe/London:20301120T220000
DTSTAMP:20260426T004725
CREATED:20260424T143715Z
LAST-MODIFIED:20260424T143947Z
UID:10000241-1921431600-1921442400@virtual-lancaster.net
SUMMARY:Event: Storey Quiz Night
DESCRIPTION:Join in every Wednesday from 7-10pm for the Storey Quiz Night! Hosted by BBC Radio Lancashire’s Mike Stevens\, you can expect a night full of trivia and fun! \nGrab your friends\, family\, and colleagues to make your team of six and compete. Prizes: 1st £30 Printroom Voucher 2nd £10 Printroom Voucher £1 entry per person
URL:https://virtual-lancaster.net/event/storey-quiz-night/2030-11-20/
LOCATION:The Storey\, Meeting House Lane\, Lancaster\, Lancashire\, LA1 1TH\, United Kingdom
ATTACH;FMTTYPE=image/jpeg:https://virtual-lancaster.net/wp-content/uploads/2012/10/storey-arts-09-10-12.jpg
END:VEVENT
BEGIN:VEVENT
DTSTART;TZID=Europe/London:20301127T190000
DTEND;TZID=Europe/London:20301127T220000
DTSTAMP:20260426T004725
CREATED:20260424T143715Z
LAST-MODIFIED:20260424T143947Z
UID:10000242-1922036400-1922047200@virtual-lancaster.net
SUMMARY:Event: Storey Quiz Night
DESCRIPTION:Join in every Wednesday from 7-10pm for the Storey Quiz Night! Hosted by BBC Radio Lancashire’s Mike Stevens\, you can expect a night full of trivia and fun! \nGrab your friends\, family\, and colleagues to make your team of six and compete. Prizes: 1st £30 Printroom Voucher 2nd £10 Printroom Voucher £1 entry per person
URL:https://virtual-lancaster.net/event/storey-quiz-night/2030-11-27/
LOCATION:The Storey\, Meeting House Lane\, Lancaster\, Lancashire\, LA1 1TH\, United Kingdom
ATTACH;FMTTYPE=image/jpeg:https://virtual-lancaster.net/wp-content/uploads/2012/10/storey-arts-09-10-12.jpg
END:VEVENT
BEGIN:VEVENT
DTSTART;TZID=Europe/London:20301204T190000
DTEND;TZID=Europe/London:20301204T220000
DTSTAMP:20260426T004725
CREATED:20260424T143715Z
LAST-MODIFIED:20260424T143947Z
UID:10000243-1922641200-1922652000@virtual-lancaster.net
SUMMARY:Event: Storey Quiz Night
DESCRIPTION:Join in every Wednesday from 7-10pm for the Storey Quiz Night! Hosted by BBC Radio Lancashire’s Mike Stevens\, you can expect a night full of trivia and fun! \nGrab your friends\, family\, and colleagues to make your team of six and compete. Prizes: 1st £30 Printroom Voucher 2nd £10 Printroom Voucher £1 entry per person
URL:https://virtual-lancaster.net/event/storey-quiz-night/2030-12-04/
LOCATION:The Storey\, Meeting House Lane\, Lancaster\, Lancashire\, LA1 1TH\, United Kingdom
ATTACH;FMTTYPE=image/jpeg:https://virtual-lancaster.net/wp-content/uploads/2012/10/storey-arts-09-10-12.jpg
END:VEVENT
BEGIN:VEVENT
DTSTART;TZID=Europe/London:20301211T190000
DTEND;TZID=Europe/London:20301211T220000
DTSTAMP:20260426T004725
CREATED:20260424T143715Z
LAST-MODIFIED:20260424T143947Z
UID:10000244-1923246000-1923256800@virtual-lancaster.net
SUMMARY:Event: Storey Quiz Night
DESCRIPTION:Join in every Wednesday from 7-10pm for the Storey Quiz Night! Hosted by BBC Radio Lancashire’s Mike Stevens\, you can expect a night full of trivia and fun! \nGrab your friends\, family\, and colleagues to make your team of six and compete. Prizes: 1st £30 Printroom Voucher 2nd £10 Printroom Voucher £1 entry per person
URL:https://virtual-lancaster.net/event/storey-quiz-night/2030-12-11/
LOCATION:The Storey\, Meeting House Lane\, Lancaster\, Lancashire\, LA1 1TH\, United Kingdom
ATTACH;FMTTYPE=image/jpeg:https://virtual-lancaster.net/wp-content/uploads/2012/10/storey-arts-09-10-12.jpg
END:VEVENT
BEGIN:VEVENT
DTSTART;TZID=Europe/London:20301218T190000
DTEND;TZID=Europe/London:20301218T220000
DTSTAMP:20260426T004725
CREATED:20260424T143715Z
LAST-MODIFIED:20260424T143947Z
UID:10000245-1923850800-1923861600@virtual-lancaster.net
SUMMARY:Event: Storey Quiz Night
DESCRIPTION:Join in every Wednesday from 7-10pm for the Storey Quiz Night! Hosted by BBC Radio Lancashire’s Mike Stevens\, you can expect a night full of trivia and fun! \nGrab your friends\, family\, and colleagues to make your team of six and compete. Prizes: 1st £30 Printroom Voucher 2nd £10 Printroom Voucher £1 entry per person
URL:https://virtual-lancaster.net/event/storey-quiz-night/2030-12-18/
LOCATION:The Storey\, Meeting House Lane\, Lancaster\, Lancashire\, LA1 1TH\, United Kingdom
ATTACH;FMTTYPE=image/jpeg:https://virtual-lancaster.net/wp-content/uploads/2012/10/storey-arts-09-10-12.jpg
END:VEVENT
BEGIN:VEVENT
DTSTART;TZID=Europe/London:20301225T190000
DTEND;TZID=Europe/London:20301225T220000
DTSTAMP:20260426T004725
CREATED:20260424T143715Z
LAST-MODIFIED:20260424T143947Z
UID:10000246-1924455600-1924466400@virtual-lancaster.net
SUMMARY:Event: Storey Quiz Night
DESCRIPTION:Join in every Wednesday from 7-10pm for the Storey Quiz Night! Hosted by BBC Radio Lancashire’s Mike Stevens\, you can expect a night full of trivia and fun! \nGrab your friends\, family\, and colleagues to make your team of six and compete. Prizes: 1st £30 Printroom Voucher 2nd £10 Printroom Voucher £1 entry per person
URL:https://virtual-lancaster.net/event/storey-quiz-night/2030-12-25/
LOCATION:The Storey\, Meeting House Lane\, Lancaster\, Lancashire\, LA1 1TH\, United Kingdom
ATTACH;FMTTYPE=image/jpeg:https://virtual-lancaster.net/wp-content/uploads/2012/10/storey-arts-09-10-12.jpg
END:VEVENT
BEGIN:VEVENT
DTSTART;TZID=Europe/London:20310101T190000
DTEND;TZID=Europe/London:20310101T220000
DTSTAMP:20260426T004725
CREATED:20260424T143715Z
LAST-MODIFIED:20260424T143947Z
UID:10000247-1925060400-1925071200@virtual-lancaster.net
SUMMARY:Event: Storey Quiz Night
DESCRIPTION:Join in every Wednesday from 7-10pm for the Storey Quiz Night! Hosted by BBC Radio Lancashire’s Mike Stevens\, you can expect a night full of trivia and fun! \nGrab your friends\, family\, and colleagues to make your team of six and compete. Prizes: 1st £30 Printroom Voucher 2nd £10 Printroom Voucher £1 entry per person
URL:https://virtual-lancaster.net/event/storey-quiz-night/2031-01-01/
LOCATION:The Storey\, Meeting House Lane\, Lancaster\, Lancashire\, LA1 1TH\, United Kingdom
ATTACH;FMTTYPE=image/jpeg:https://virtual-lancaster.net/wp-content/uploads/2012/10/storey-arts-09-10-12.jpg
END:VEVENT
BEGIN:VEVENT
DTSTART;TZID=Europe/London:20310108T190000
DTEND;TZID=Europe/London:20310108T220000
DTSTAMP:20260426T004725
CREATED:20260424T143715Z
LAST-MODIFIED:20260424T143947Z
UID:10000248-1925665200-1925676000@virtual-lancaster.net
SUMMARY:Event: Storey Quiz Night
DESCRIPTION:Join in every Wednesday from 7-10pm for the Storey Quiz Night! Hosted by BBC Radio Lancashire’s Mike Stevens\, you can expect a night full of trivia and fun! \nGrab your friends\, family\, and colleagues to make your team of six and compete. Prizes: 1st £30 Printroom Voucher 2nd £10 Printroom Voucher £1 entry per person
URL:https://virtual-lancaster.net/event/storey-quiz-night/2031-01-08/
LOCATION:The Storey\, Meeting House Lane\, Lancaster\, Lancashire\, LA1 1TH\, United Kingdom
ATTACH;FMTTYPE=image/jpeg:https://virtual-lancaster.net/wp-content/uploads/2012/10/storey-arts-09-10-12.jpg
END:VEVENT
BEGIN:VEVENT
DTSTART;TZID=Europe/London:20310115T190000
DTEND;TZID=Europe/London:20310115T220000
DTSTAMP:20260426T004725
CREATED:20260424T143715Z
LAST-MODIFIED:20260424T143947Z
UID:10000249-1926270000-1926280800@virtual-lancaster.net
SUMMARY:Event: Storey Quiz Night
DESCRIPTION:Join in every Wednesday from 7-10pm for the Storey Quiz Night! Hosted by BBC Radio Lancashire’s Mike Stevens\, you can expect a night full of trivia and fun! \nGrab your friends\, family\, and colleagues to make your team of six and compete. Prizes: 1st £30 Printroom Voucher 2nd £10 Printroom Voucher £1 entry per person
URL:https://virtual-lancaster.net/event/storey-quiz-night/2031-01-15/
LOCATION:The Storey\, Meeting House Lane\, Lancaster\, Lancashire\, LA1 1TH\, United Kingdom
ATTACH;FMTTYPE=image/jpeg:https://virtual-lancaster.net/wp-content/uploads/2012/10/storey-arts-09-10-12.jpg
END:VEVENT
BEGIN:VEVENT
DTSTART;TZID=Europe/London:20310122T190000
DTEND;TZID=Europe/London:20310122T220000
DTSTAMP:20260426T004725
CREATED:20260424T143715Z
LAST-MODIFIED:20260424T143947Z
UID:10000250-1926874800-1926885600@virtual-lancaster.net
SUMMARY:Event: Storey Quiz Night
DESCRIPTION:Join in every Wednesday from 7-10pm for the Storey Quiz Night! Hosted by BBC Radio Lancashire’s Mike Stevens\, you can expect a night full of trivia and fun! \nGrab your friends\, family\, and colleagues to make your team of six and compete. Prizes: 1st £30 Printroom Voucher 2nd £10 Printroom Voucher £1 entry per person
URL:https://virtual-lancaster.net/event/storey-quiz-night/2031-01-22/
LOCATION:The Storey\, Meeting House Lane\, Lancaster\, Lancashire\, LA1 1TH\, United Kingdom
ATTACH;FMTTYPE=image/jpeg:https://virtual-lancaster.net/wp-content/uploads/2012/10/storey-arts-09-10-12.jpg
END:VEVENT
BEGIN:VEVENT
DTSTART;TZID=Europe/London:20310129T190000
DTEND;TZID=Europe/London:20310129T220000
DTSTAMP:20260426T004725
CREATED:20260424T143715Z
LAST-MODIFIED:20260424T143947Z
UID:10000251-1927479600-1927490400@virtual-lancaster.net
SUMMARY:Event: Storey Quiz Night
DESCRIPTION:Join in every Wednesday from 7-10pm for the Storey Quiz Night! Hosted by BBC Radio Lancashire’s Mike Stevens\, you can expect a night full of trivia and fun! \nGrab your friends\, family\, and colleagues to make your team of six and compete. Prizes: 1st £30 Printroom Voucher 2nd £10 Printroom Voucher £1 entry per person
URL:https://virtual-lancaster.net/event/storey-quiz-night/2031-01-29/
LOCATION:The Storey\, Meeting House Lane\, Lancaster\, Lancashire\, LA1 1TH\, United Kingdom
ATTACH;FMTTYPE=image/jpeg:https://virtual-lancaster.net/wp-content/uploads/2012/10/storey-arts-09-10-12.jpg
END:VEVENT
END:VCALENDAR